BEGIN:VCALENDAR
VERSION:2.0
PRODID:-//LCMS Calendar - ECPv4.9.8//NONSGML v1.0//EN
CALSCALE:GREGORIAN
METHOD:PUBLISH
X-WR-CALNAME:LCMS Calendar
X-ORIGINAL-URL:https://calendar.lcms.org
X-WR-CALDESC:Events for LCMS Calendar
BEGIN:VTIMEZONE
TZID:America/Chicago
BEGIN:DAYLIGHT
TZOFFSETFROM:-0600
TZOFFSETTO:-0500
TZNAME:CDT
DTSTART:20170312T080000
END:DAYLIGHT
BEGIN:STANDARD
TZOFFSETFROM:-0500
TZOFFSETTO:-0600
TZNAME:CST
DTSTART:20171105T070000
END:STANDARD
END:VTIMEZONE
BEGIN:VEVENT
DTSTART;VALUE=DATE:20170127
DTEND;VALUE=DATE:20170130
DTSTAMP:20210515T180934
CREATED:20160212T202027Z
LAST-MODIFIED:20170117T221712Z
UID:35251-1485475200-1485734399@calendar.lcms.org
SUMMARY:2017 LCMS Life Conference
DESCRIPTION:\nThe 2017 LCMS Life Conference is scheduled for Jan. 27-29\, 2017\, at the Westin Arlington Gateway Hotel in Arlington\, Va. The conference is open to Lutheran Church—Missouri Synod members and guests. \nJoin LCMS Life Ministry as we proclaim God’s truth that all life is sacred — from the very beginning until the natural end. \n[button link=”https://www.regonline.com/2017-life-conference” color=”lcms” target=”_blank”]Register now[/button] \nRates \n\nStudents: $200\nAdults: $300\n\nRegistration includes breakfast and dinner on Jan. 27; breakfast\, lunch and dinner on Jan. 28; and breakfast on Jan. 29. \nConference highlights include: \n\nMarching at the 44th-annual National March for Life in our nation’s capital;\nListening to presentations from speakers\, including Dr. George Delgado\, who pioneered a protocol to reverse the abortion pill; Rev. Dr. Matthew C. Harrison\, president of The Lutheran Church—Missouri Synod; and the Rev. Jonathan Fisk\, pastor of St. John’s Lutheran Church\, Oakes\, N.D.\nSaturday evening banquet with speaker Tim Goeglein\, vice-president of external relations for Focus on the Family;\nConcert by singer Erin Bode\, an LCMS member from St. Louis\, following Saturday evening banquet;\nSaturday evening prayer led by Rev. Al Espinosa\, who serves on the LCMS Board for National Mission; and\nAttending devotions and daily worship\, including Divine Service on Sunday morning.\n\nEmail LCMS Ministry with questions regarding the conference. \n  \n[button link=”https://www.lcms.org/Document.fdoc?src=lcm&id=4130″ color=”lcms” target=”_blank”]Schedule[/button] [button link=”https://www.lcms.org/Document.fdoc?src=lcm&id=4423″ color=”lcms” target=”_blank”]Speakers[/button][button link=”https://www.lcms.org/Document.fdoc?src=lcm&id=4132″ color=”lcms” target=”_blank”]Bulletin insert[/button] [button link=”https://www.lcms.org/Document.fdoc?src=lcm&id=4029″ color=”lcms” target=”_blank”]Event poster[/button] [button link=”https://www.lcms.org/Document.fdoc?src=lcm&id=4030″ color=”lcms” target=”_blank”]Event postcards[/button] [button link=”https://www.lcms.org/Document.fdoc?src=lcm&id=4131″ color=”lcms” target=”_blank”]Event flier[/button] \nJoin the March for Life\nIf you are unable to attend the LCMS Life Conference\, you are still welcome to join fellow Lutherans for the National March for Life in Washington\, D.C.\, on Friday\, Jan. 27. \nYou are invited to join your LCMS brothers and sisters for a Divine Service at The Westin Arlington Gateway Hotel beginning at 9 a.m.\, and then we will travel by Metro to the march. \nIf you cannot attend the worship service\, please join the LCMS near 12th Street and Constitution Avenue for the March for Life. Look for the green umbrella. \nPlease let us know if you will join us for the march and/or for worship by calling 888-THE LCMS or by emailing infocenter@lcms.org. Please provide the number of attendees in your group so we can plan accordingly. \n[button link=”https://www.lcms.org/Document.fdoc?src=lcm&id=4421″ color=”lcms” window=”yes”]March for Life schedule & directions[/button] \n
URL:https://calendar.lcms.org/event/2017-lcms-life-conference/
CATEGORIES:Conferences & Workshops
ATTACH;FMTTYPE=image/png:https://calendar.lcms.org/wp-content/uploads/2016/02/2017-Life-Conference-Promo-1024x684.png
ORGANIZER;CN="LCMS%20Life%20Ministry":MAILTO:barb.temples@lcms.org
END:VEVENT
END:VCALENDAR