BEGIN:VCALENDAR
VERSION:2.0
PRODID:-//LCMS Calendar - ECPv4.9.8//NONSGML v1.0//EN
CALSCALE:GREGORIAN
METHOD:PUBLISH
X-WR-CALNAME:LCMS Calendar
X-ORIGINAL-URL:https://calendar.lcms.org
X-WR-CALDESC:Events for LCMS Calendar
BEGIN:VTIMEZONE
TZID:America/Chicago
BEGIN:DAYLIGHT
TZOFFSETFROM:-0600
TZOFFSETTO:-0500
TZNAME:CDT
DTSTART:20180311T080000
END:DAYLIGHT
BEGIN:STANDARD
TZOFFSETFROM:-0500
TZOFFSETTO:-0600
TZNAME:CST
DTSTART:20181104T070000
END:STANDARD
END:VTIMEZONE
BEGIN:VEVENT
DTSTART;TZID="America/Chicago":20181108T110000
DTEND;TZID="America/Chicago":20181110T113000
DTSTAMP:20211007T232946
CREATED:20180306T174603Z
LAST-MODIFIED:20181017T151704Z
UID:36539-1541674800-1541849400@calendar.lcms.org
SUMMARY:2018 National Rural & Small Town Mission Conference
DESCRIPTION:\n\n\n\n\n\n\n\nThe Lutheran Church—Missouri Synod will host its 2018 National Rural & Small Town Mission Conference on Nov. 8-10 in Kansas City\, Mo.\, at the Hilton Kansas City Airport Hotel.\n\nBuilding on the theme “Have No Fear\,” the conference will feature keynote speakers the Rev. Timothy Koch\, the Rev. Dr. Robert H. Bennett\, the Rev. Tom Schlund and Chaplain Craig Muehler.\n\nChoose from breakout topics such as disaster training\, youth ministry\, ministry to inactives\, family ministry outreach\, stewardship\, hope during grief\, opportunities with Recognized Service Organizations and many other topics affecting our rural and small-town congregations.\n\nView conference schedule     View conference booklet\nRegistration\nRegistration is closed. Please email the RSTM office or call 888-463-5127 with questions.\nHotel information\nThe Hilton Kansas City Airport Hotel is offering a negotiated nightly rate of $106 for single occupancy and $114 for double occupancy (plus applicable taxes). The rate includes one daily breakfast buffet per occupant\, complimentary self-parking and complimentary airport transportation.\n\nHotel reservations must be made with Hilton online\, or call 816-891-8900 and ask for the LCMS Rural & Small Town Mission Conference rate.\n\nMake hotel reservations\nAbout the conference\nThe LCMS 2018 National Rural & Small Town Mission Conference will address the blessings and challenges facing rural and small-town congregations today as well as encourage those congregations and their leaders in cultivating healthy churches that are eager to bear witness to Christ\, show mercy to those in need in their communities and develop a robust life together with their fellow members.\n\nThis conference is geared for anyone from a rural and small-town setting. While there is no “one size fits all” solution\, participants will be encouraged as they see new opportunities for engaging their communities and are filled with hope for the future. Fellowship with others who have also been placed in this unique mission field will be invaluable\, too.\n\nInvitation & speakers\n\nOrder merchandise\n\nBulletin insert (Color)\n\nBulletin insert (B&W)\nNew for 2018: Continuing Education Unit credits available\nConference attendees are eligible to receive 1.5 Continuing Education Unit credits from Concordia Theological Seminary\, Fort Wayne\, Ind.\n\nTo receive credits\, individuals must complete at least 15 session/Bible study hours at the conference and return an application form along with a $10 processing fee to Concordia Theological Seminary. The form and complete instructions will be provided after the conference.\n\nQuestions can be directed to Kara Mertz at CTSFW by calling 260-452-2103 or by emailing kara.mertz@ctsfw.edu.\n\n\n\n\n\n\n\n\n\n
URL:https://calendar.lcms.org/event/2018-national-rural-small-town-mission-conference/
LOCATION:Hilton Kansas City Airport Hotel\, 8801 NW 112th Street\, Kansas City\, MO\, 64153\, United States
CATEGORIES:Conferences & Workshops,Rural & Small Town Mission
ATTACH;FMTTYPE=image/jpeg:https://calendar.lcms.org/wp-content/uploads/2018/09/RSTM-Conference-2018-Featured-1200x630.jpg
ORGANIZER;CN="LCMS%20Rural%20%26%20Small%20Town%20Mission":MAILTO:rstm@lcms.org
GEO:39.2949617;-94.6828916
X-APPLE-STRUCTURED-LOCATION;VALUE=URI;X-ADDRESS=Hilton Kansas City Airport Hotel 8801 NW 112th Street Kansas City MO 64153 United States;X-APPLE-RADIUS=500;X-TITLE=8801 NW 112th Street:geo:-94.6828916,39.2949617
END:VEVENT
END:VCALENDAR