BEGIN:VCALENDAR
VERSION:2.0
PRODID:-//LCMS Calendar - ECPv4.9.8//NONSGML v1.0//EN
CALSCALE:GREGORIAN
METHOD:PUBLISH
X-WR-CALNAME:LCMS Calendar
X-ORIGINAL-URL:https://calendar.lcms.org
X-WR-CALDESC:Events for LCMS Calendar
BEGIN:VTIMEZONE
TZID:America/Chicago
BEGIN:DAYLIGHT
TZOFFSETFROM:-0600
TZOFFSETTO:-0500
TZNAME:CDT
DTSTART:20190310T080000
END:DAYLIGHT
BEGIN:STANDARD
TZOFFSETFROM:-0500
TZOFFSETTO:-0600
TZNAME:CST
DTSTART:20191103T070000
END:STANDARD
END:VTIMEZONE
BEGIN:VEVENT
DTSTART;VALUE=DATE:20190720
DTEND;VALUE=DATE:20190726
DTSTAMP:20211018T201324
CREATED:20171211T185109Z
LAST-MODIFIED:20180917T204127Z
UID:36412-1563580800-1564099199@calendar.lcms.org
SUMMARY:2019 Lutheran Church—Missouri Synod National Convention
DESCRIPTION: \n  \nThe 67th Convention of The Lutheran Church—Missouri Synod is scheduled for July 20-25\, 2019\, at the Tampa Convention Center in Tampa\, Fla. \nThe LCMS national convention affords an opportunity for worship\, nurture and inspiration\, fellowship\, and the communication of vital information. \nThe convention is the principal legislative assembly\, which amends the Constitution and Bylaws\, considers and takes action on reports and overtures\, and handles appropriate appeals. It establishes general positions and policies of the Synod\, provides overall program direction and priorities\, and conducts business in order to provide responsible service for and on behalf of its members. \nThe convention is open to the public\, and there will be seating for visitors available in the hall. With large screens in the hall\, visitors will be able to see and hear convention proceedings. Attendees may visit the many exhibitors in the Exhibit Hall\, and guests are welcome to attend the opening worship and some evening events. \nConvention visitors do not need to register. Registration is needed only if you have an official role or responsibility at the convention. \nVisit the LCMS Convention webpage for the latest updates. Email the LCMS Church Information Center or call 888-843-5267 for more information. \n
URL:https://calendar.lcms.org/event/2019-lcms-national-convention/
LOCATION:Tampa Convention Center\, 333 S. Franklin Street\, Tampa\, FL\, 33602\, United States
CATEGORIES:Conventions
ATTACH;FMTTYPE=image/jpeg:https://calendar.lcms.org/wp-content/uploads/2017/12/Convention-2019-Featured-1200x630.jpg
ORGANIZER;CN="The%20Lutheran%20Church%E2%80%94Missouri%20Synod":MAILTO:infocenter@lcms.org
GEO:27.9422018;-82.4560855
X-APPLE-STRUCTURED-LOCATION;VALUE=URI;X-ADDRESS=Tampa Convention Center 333 S. Franklin Street Tampa FL 33602 United States;X-APPLE-RADIUS=500;X-TITLE=333 S. Franklin Street:geo:-82.4560855,27.9422018
END:VEVENT
END:VCALENDAR