BEGIN:VCALENDAR
VERSION:2.0
PRODID:-//LCMS Calendar - ECPv4.9.8//NONSGML v1.0//EN
CALSCALE:GREGORIAN
METHOD:PUBLISH
X-WR-CALNAME:LCMS Calendar
X-ORIGINAL-URL:https://calendar.lcms.org
X-WR-CALDESC:Events for LCMS Calendar
BEGIN:VTIMEZONE
TZID:America/Chicago
BEGIN:DAYLIGHT
TZOFFSETFROM:-0600
TZOFFSETTO:-0500
TZNAME:CDT
DTSTART:20220313T080000
END:DAYLIGHT
BEGIN:STANDARD
TZOFFSETFROM:-0500
TZOFFSETTO:-0600
TZNAME:CST
DTSTART:20221106T070000
END:STANDARD
END:VTIMEZONE
BEGIN:VEVENT
DTSTART;VALUE=DATE:20220509
DTEND;VALUE=DATE:20220514
DTSTAMP:20210724T231900
CREATED:20200616T230025Z
LAST-MODIFIED:20210607T222656Z
UID:37718-1652054400-1652486399@calendar.lcms.org
SUMMARY:LCMS Southeastern District Convention - 2022
DESCRIPTION:The LCMS Southeastern District Convention is scheduled for May 2022\, including video sessions during May 9-11 and in-person gatherings on May 12-13 in Richmond\, Va. \n\nPart 1 of the convention will feature Zoom video presentations for worship and reports\, but no business will be conducted.\nPart 2 will be held in person at a location to be announced\, and the gathering will include devotions\, prayers\, elections\, and resolutions.\n\nConventions are held every three years by each of The Lutheran Church—Missouri Synod’s 35 districts. \nThe schedule includes time for conducting business\, electing officers\, and sharing information. The conventions also offer opportunities for worship\, nurture\, inspiration\, and fellowship. \nPastors\, teachers\, other commissioned ministers\, and lay delegates elected by congregations are required to attend. \nGeneral sessions are open to anyone who wishes to attend as an observer\, and guests are also invited to the worship services. \nLCMS Southeastern District Office: \n\nPhone — 703-971-9371 or 800-637-5723\nWeb — se.lcms.org\nProfile — Southeastern District\n\n
URL:https://calendar.lcms.org/event/lcms-southeastern-district-convention-2022/
LOCATION:NC\, United States
CATEGORIES:Conventions,District Conventions
ATTACH;FMTTYPE=image/jpeg:https://calendar.lcms.org/wp-content/uploads/2017/06/LCMS-District-Conventions-Featured-Image.jpg
GEO:35.7595731;-79.0192997
END:VEVENT
END:VCALENDAR