BEGIN:VCALENDAR
VERSION:2.0
PRODID:-//LCMS Calendar - ECPv4.9.8//NONSGML v1.0//EN
CALSCALE:GREGORIAN
METHOD:PUBLISH
X-WR-CALNAME:LCMS Calendar
X-ORIGINAL-URL:https://calendar.lcms.org
X-WR-CALDESC:Events for LCMS Calendar
BEGIN:VTIMEZONE
TZID:America/Chicago
BEGIN:DAYLIGHT
TZOFFSETFROM:-0600
TZOFFSETTO:-0500
TZNAME:CDT
DTSTART:20170312T080000
END:DAYLIGHT
BEGIN:STANDARD
TZOFFSETFROM:-0500
TZOFFSETTO:-0600
TZNAME:CST
DTSTART:20171105T070000
END:STANDARD
END:VTIMEZONE
BEGIN:VEVENT
DTSTART;TZID="America/Chicago":20170315T190000
DTEND;TZID="America/Chicago":20170315T213000
DTSTAMP:20210602T052937
CREATED:20170120T171624Z
LAST-MODIFIED:20170120T171643Z
UID:35716-1489604400-1489613400@calendar.lcms.org
SUMMARY:Luther movie premiere: Houston
DESCRIPTION: \nWhat: The Houston premiere of the new movie\, “Martin Luther: The Idea that Changed the World” \nWhen: 7 p.m.\, Wednesday\, Feb. 15\, 2017 \nWhere: Edwards Greenway Grand Palace Stadium 24 & RPX — 3839 Weslayan; Houston\, Texas\, 77027 \nWho: Lutherans young and old. Invite your neighbors and friends to this exciting event. Tickets must be purchased in advance. \n[button link=”https://www.tugg.com/events/martin-luther-the-idea-that-changed-the-world” color=”lcms” window=”yes”]Purchase tickets[/button] \nProduced by the award-winning Lutheran film makers Steve Boettcher and Mike Trinklein\, this film reflects accurate historical details and the true nature of Luther’s work during the Reformation. \nThe Houston premiere is hosted by Memorial Lutheran Church. \nTo purchase tickets\, visit tickets.NewLutherMovie.com. \nFor more information on how your congregation can host a similar movie event\, visit newluthermovie.com/lcms. \n[button link=”https://www.lcms.org/Document.fdoc?src=lcm&id=4484″ color=”lcms” window=”yes”]Download promotional poster[/button] \n
URL:https://calendar.lcms.org/event/luther-movie-premiere-houston/
CATEGORIES:Special Events,Special Observances
ATTACH;FMTTYPE=image/jpeg:https://calendar.lcms.org/wp-content/uploads/2017/01/Luther-Movie-Premiere-2017.jpg
END:VEVENT
END:VCALENDAR