BEGIN:VCALENDAR
VERSION:2.0
PRODID:-//LCMS Calendar - ECPv4.9.8//NONSGML v1.0//EN
CALSCALE:GREGORIAN
METHOD:PUBLISH
X-WR-CALNAME:LCMS Calendar
X-ORIGINAL-URL:https://calendar.lcms.org
X-WR-CALDESC:Events for LCMS Calendar
BEGIN:VTIMEZONE
TZID:America/Chicago
BEGIN:DAYLIGHT
TZOFFSETFROM:-0600
TZOFFSETTO:-0500
TZNAME:CDT
DTSTART:20210314T080000
END:DAYLIGHT
BEGIN:STANDARD
TZOFFSETFROM:-0500
TZOFFSETTO:-0600
TZNAME:CST
DTSTART:20211107T070000
END:STANDARD
END:VTIMEZONE
BEGIN:VEVENT
DTSTART;VALUE=DATE:20211011
DTEND;VALUE=DATE:20211014
DTSTAMP:20210724T231828
CREATED:20210621T165059Z
LAST-MODIFIED:20210621T165306Z
UID:38343-1633910400-1634169599@calendar.lcms.org
SUMMARY:‘Making Disciples for Life’ Fall 2021 Conference
DESCRIPTION: \nWhat does it take to be a faithful church amid a turbulent culture? This is the central question that will be discussed at the Making Disciples for Life (MDFL) fall conference\, set for Oct. 11–13\, 2021. The conference theme is “The Rock in Shifting Sands.” \nThe conference will feature three tracks focusing on: \n\nChurch and state\, Christian citizenship\, religious liberty\nCritical theory\, its manifestations and how the church should respond\nDiscipleship\, Christian education\, lifelong catechesis\n\nThe conference’s plenary sessions\, break-out sessions\, roundtable discussions\, focus groups and LCMS Office of National Mission exhibits will be offered in a mix of virtual and in-person formats to accommodate as many attendees as possible. Those who participate in the focus groups will help identify needs and set the agenda for the next MDFL conference. \nMore information will be available soon. \n
URL:https://calendar.lcms.org/event/making-disciples-for-life-fall-2021-conference/
CATEGORIES:Conferences & Workshops,Making Disciples for Life
ATTACH;FMTTYPE=image/jpeg:https://calendar.lcms.org/wp-content/uploads/2021/06/MDFL_calendar-Fall2021-1200x630-1.jpg
ORGANIZER;CN="The%20Lutheran%20Church%E2%80%94Missouri%20Synod":MAILTO:infocenter@lcms.org
END:VEVENT
END:VCALENDAR