BEGIN:VCALENDAR
VERSION:2.0
PRODID:-//LCMS Calendar - ECPv4.9.8//NONSGML v1.0//EN
CALSCALE:GREGORIAN
METHOD:PUBLISH
X-WR-CALNAME:LCMS Calendar
X-ORIGINAL-URL:https://calendar.lcms.org
X-WR-CALDESC:Events for LCMS Calendar
BEGIN:VTIMEZONE
TZID:America/Chicago
BEGIN:DAYLIGHT
TZOFFSETFROM:-0600
TZOFFSETTO:-0500
TZNAME:CDT
DTSTART:20200308T080000
END:DAYLIGHT
BEGIN:STANDARD
TZOFFSETFROM:-0500
TZOFFSETTO:-0600
TZNAME:CST
DTSTART:20201101T070000
END:STANDARD
END:VTIMEZONE
BEGIN:VEVENT
DTSTART;VALUE=DATE:20200109
DTEND;VALUE=DATE:20200112
DTSTAMP:20210522T202809
CREATED:20191024T162939Z
LAST-MODIFIED:20191219T212139Z
UID:37329-1578528000-1578787199@calendar.lcms.org
SUMMARY:'Making Disciples for Life' Initial Gathering
DESCRIPTION: \nRegistration is closed\nThank you for your interest in attending the Making Disciples for Life Initial Gathering. All spaces are filled. \nPlease watch the LCMS Calendar for registration information for the next Making Disciples for Life conference\, which is scheduled for April 16–18\, 2020\, at Concordia Theological Seminary\, Fort Wayne\, Ind. \nFor more information\, email the LCMS Church Information Center at infocenter@lcms.org or call 888-843-5267. \n\nThe first Making Disciples for Life (MDFL) conference will be held Jan. 9–11\, 2020\, at The Lutheran Church—Missouri Synod (LCMS) International Center (IC) in St. Louis. \nFace-to-face interactions and exchanges of information among the people of congregations\, districts and the national Synod are the goals of these conferences. \nResources provided at this conference will focus on empowering local congregations’ pastors and laity to make a godly impact in their congregations and communities. \n\nInitial Gathering schedule\nHow to prepare for regional conferences\n\n\n\nReporter — ‘Making Disciples for Life’ Initial Gathering set for January\nKFUO Radio — Rev. Robert Zagore explains ‘Making Disciples for Life’ initiative\nVideo — ‘Making Disciples for Life’\n\n
URL:https://calendar.lcms.org/event/making-disciples-for-life-initial-gathering/
LOCATION:International Center: St. Louis\, 1333 S. Kirkwood Road\, St Louis\, MO\, 63122\, United States
CATEGORIES:Conferences & Workshops,Making Disciples for Life
ATTACH;FMTTYPE=image/png:https://calendar.lcms.org/wp-content/uploads/2019/10/Making-Disciples-for-Life-1200x630.png
ORGANIZER;CN="The%20Lutheran%20Church%E2%80%94Missouri%20Synod":MAILTO:infocenter@lcms.org
GEO:38.5605895;-90.4080025
X-APPLE-STRUCTURED-LOCATION;VALUE=URI;X-ADDRESS=International Center: St. Louis 1333 S. Kirkwood Road St Louis MO 63122 United States;X-APPLE-RADIUS=500;X-TITLE=1333 S. Kirkwood Road:geo:-90.4080025,38.5605895
END:VEVENT
END:VCALENDAR