BEGIN:VCALENDAR
VERSION:2.0
PRODID:-//LCMS Calendar - ECPv4.9.8//NONSGML v1.0//EN
CALSCALE:GREGORIAN
METHOD:PUBLISH
X-WR-CALNAME:LCMS Calendar
X-ORIGINAL-URL:https://calendar.lcms.org
X-WR-CALDESC:Events for LCMS Calendar
BEGIN:VTIMEZONE
TZID:America/Chicago
BEGIN:DAYLIGHT
TZOFFSETFROM:-0600
TZOFFSETTO:-0500
TZNAME:CDT
DTSTART:20220313T080000
END:DAYLIGHT
BEGIN:STANDARD
TZOFFSETFROM:-0500
TZOFFSETTO:-0600
TZNAME:CST
DTSTART:20221106T070000
END:STANDARD
END:VTIMEZONE
BEGIN:VEVENT
DTSTART;VALUE=DATE:20220124
DTEND;VALUE=DATE:20220221
DTSTAMP:20210728T225829
CREATED:20210712T160700Z
LAST-MODIFIED:20210712T170920Z
UID:38388-1642982400-1645401599@calendar.lcms.org
SUMMARY:Missions Unpacked: Your Global Connection to Mission
DESCRIPTION: \nEmbark on a global mission experience and unpack how LCMS International Mission works without ever having to dig out your suitcase. Learn\, sing\, eat and pray with missionaries and local church members in Africa\, Asia\, Eurasia and Latin America & the Caribbean. Experience fellowship with your brothers and sisters in Christ from the comfort of your own home. Great for individuals or groups! \nDuring each week of Missions Unpacked\, you can explore life in a different place\, interact with an LCMS missionary in a live presentation\, and discover how you can be part of God’s mission around the world. \nRegistration for this free event is now open. Visit this page to register today. \n \nSample Weekly Schedule\nMonday: \n\nWatch a video about LCMS International Mission’s work in one of four global regions (~30 minutes).\n\nTuesday–Friday:\nExplore at your own pace and… \n\nTour a historic plaza;\nTry out a traditional dance step;\nLearn a prayer in a local language;\nPrepare a typical dish;\nAnd more!\n\nSaturday: \n\nLive Event: Get to know a missionary through story and dialogue (~1 hour).\n\n  \nRegister now and reserve your place! \n
URL:https://calendar.lcms.org/event/missions-unpacked-jan2022/
CATEGORIES:Conferences & Workshops,Missions Unpacked
ATTACH;FMTTYPE=image/jpeg:https://calendar.lcms.org/wp-content/uploads/2020/11/Mission-Unpacked-Feature-Image_B.jpg
ORGANIZER;CN="LCMS%20International%20Mission":MAILTO:mission.teams@lcms.org
END:VEVENT
END:VCALENDAR