BEGIN:VCALENDAR
VERSION:2.0
PRODID:-//LCMS Calendar - ECPv4.9.8//NONSGML v1.0//EN
CALSCALE:GREGORIAN
METHOD:PUBLISH
X-WR-CALNAME:LCMS Calendar
X-ORIGINAL-URL:https://calendar.lcms.org
X-WR-CALDESC:Events for LCMS Calendar
BEGIN:VTIMEZONE
TZID:America/Chicago
BEGIN:DAYLIGHT
TZOFFSETFROM:-0600
TZOFFSETTO:-0500
TZNAME:CDT
DTSTART:20190310T080000
END:DAYLIGHT
BEGIN:STANDARD
TZOFFSETFROM:-0500
TZOFFSETTO:-0600
TZNAME:CST
DTSTART:20191103T070000
END:STANDARD
END:VTIMEZONE
BEGIN:VEVENT
DTSTART;TZID="America/Chicago":20191012T080000
DTEND;TZID="America/Chicago":20191012T150000
DTSTAMP:20210617T195505
CREATED:20190814T171823Z
LAST-MODIFIED:20190814T171823Z
UID:37244-1570867200-1570892400@calendar.lcms.org
SUMMARY:RSTM Welcoming Workshop -- Pipestone\, Minn.
DESCRIPTION:LCMS Rural & Small Town Mission and the Minnesota South District will host a Welcoming Workshop on Saturday\, Oct. 12\, at Our Saviour’s Lutheran Church in Pipestone\, Minn. \nThe day-long event will focus on three areas: Welcoming Buildings\, Welcoming Publications\, and Welcoming People. RSTM Coordinator Amy Gerdts will offer practical resources and communication skills for making our congregations welcoming places to provide God’s Word to members and visitors. \nView schedule >> \nThe cost is $25 per participant or $100 for a congregational group of four or more. The registration deadline is Friday\, Oct. 4\, and early registration is appreciated. \nFor more information\, call 888-463-5127 or email rstm@lcms.org. \nRegister online \n
URL:https://calendar.lcms.org/event/rstm-welcoming-workshop-pipestone-minn/
LOCATION:Our Saviour’s Lutheran Church: Pipestone\, Minn.\, 1102 7th Ave SW\, Pipestone\, MN\, 56164\, United States
CATEGORIES:Rural & Small Town Mission,Welcoming Workshops
ATTACH;FMTTYPE=image/jpeg:https://calendar.lcms.org/wp-content/uploads/2014/09/RSTM-03-Featured-1200x630.jpg
ORGANIZER;CN="LCMS%20Rural%20%26%20Small%20Town%20Mission":MAILTO:rstm@lcms.org
GEO:43.9886107;-96.3261796
X-APPLE-STRUCTURED-LOCATION;VALUE=URI;X-ADDRESS=Our Saviour’s Lutheran Church: Pipestone Minn. 1102 7th Ave SW Pipestone MN 56164 United States;X-APPLE-RADIUS=500;X-TITLE=1102 7th Ave SW:geo:-96.3261796,43.9886107
END:VEVENT
END:VCALENDAR