BEGIN:VCALENDAR
VERSION:2.0
PRODID:-//LCMS Calendar - ECPv4.9.8//NONSGML v1.0//EN
CALSCALE:GREGORIAN
METHOD:PUBLISH
X-WR-CALNAME:LCMS Calendar
X-ORIGINAL-URL:https://calendar.lcms.org
X-WR-CALDESC:Events for LCMS Calendar
BEGIN:VTIMEZONE
TZID:America/Chicago
BEGIN:DAYLIGHT
TZOFFSETFROM:-0600
TZOFFSETTO:-0500
TZNAME:CDT
DTSTART:20190310T080000
END:DAYLIGHT
BEGIN:STANDARD
TZOFFSETFROM:-0500
TZOFFSETTO:-0600
TZNAME:CST
DTSTART:20191103T070000
END:STANDARD
END:VTIMEZONE
BEGIN:VEVENT
DTSTART;VALUE=DATE:20191110
DTEND;VALUE=DATE:20191115
DTSTAMP:20210522T072127
CREATED:20190918T220843Z
LAST-MODIFIED:20190918T230031Z
UID:37287-1573344000-1573775999@calendar.lcms.org
SUMMARY:Symposium for hymn writers and translators
DESCRIPTION:“Teach Us Jesus Christ to Know Aright\,” a symposium for hymn writers and translators\, is scheduled for Nov. 10–14\, 2019\, at Concordia Theological Seminary in Fort Wayne\, Ind. \nThe hymn writers conference is offered in tandem with 20th Annual Conference of the Good Shepherd Institute. \nAttendees will work alongside other writers\, critiquing and discussing their work while singing and writing tunes to their texts. \nConference registration rates: \n\n$130 per person\n$90 for a second registrant from the same congregation or family\n$90 for attendees age 62 and older\n$75 for Monday only\n\nView brochure and schedule \nRegister online \n  \nScholarships available\nA limited number of scholarships are available through the Worship Department of the LCMS Office of National Mission. \nContact Sandy Bowers at sandy.bowers@lcms.org for scholarship application instructions. \n
URL:https://calendar.lcms.org/event/symposium-for-hymn-writers-and-translators/
LOCATION:Concordia Theological Seminary\, Fort Wayne\, 6600 North Clinton Street\, Fort Wayne\, 46802
CATEGORIES:Conferences & Workshops
ATTACH;FMTTYPE=image/jpeg:https://calendar.lcms.org/wp-content/uploads/2019/09/Hymn-Writers-Conference-1200x630.jpg
ORGANIZER;CN="LCMS%20Worship":MAILTO:sandy.bowers@lcms.org
GEO:41.138455;-85.110889
X-APPLE-STRUCTURED-LOCATION;VALUE=URI;X-ADDRESS=Concordia Theological Seminary Fort Wayne 6600 North Clinton Street Fort Wayne 46802;X-APPLE-RADIUS=500;X-TITLE=6600 North Clinton Street:geo:-85.110889,41.138455
END:VEVENT
END:VCALENDAR