BEGIN:VCALENDAR
VERSION:2.0
PRODID:-//LCMS Calendar - ECPv4.9.8//NONSGML v1.0//EN
CALSCALE:GREGORIAN
METHOD:PUBLISH
X-WR-CALNAME:LCMS Calendar
X-ORIGINAL-URL:https://calendar.lcms.org
X-WR-CALDESC:Events for LCMS Calendar
BEGIN:VTIMEZONE
TZID:America/Chicago
BEGIN:DAYLIGHT
TZOFFSETFROM:-0600
TZOFFSETTO:-0500
TZNAME:CDT
DTSTART:20190310T080000
END:DAYLIGHT
BEGIN:STANDARD
TZOFFSETFROM:-0500
TZOFFSETTO:-0600
TZNAME:CST
DTSTART:20191103T070000
END:STANDARD
END:VTIMEZONE
BEGIN:VEVENT
DTSTART;TZID="America/Chicago":20190725T130000
DTEND;TZID="America/Chicago":20190725T140000
DTSTAMP:20210605T000130
CREATED:20181128T223751Z
LAST-MODIFIED:20190103T160637Z
UID:36977-1564059600-1564063200@calendar.lcms.org
SUMMARY:Webinar: 'Active Stewardship in the Rural Parish'
DESCRIPTION:LCMS Rural & Small Town Mission will host a free webinar on “Active Stewardship in the Rural Parish” from 1-2 p.m. Central time on Thursday\, July 25\, 2019. \nThe presenter will be the Rev. Heath Curtis\, coordinator of LCMS Stewardship Ministry. Curtis is pastor of Trinity Lutheran Church in Worden\, Ill.\, and Zion Lutheran Church in Carpenter\, Ill. \nTo ask a question\, contact Rural & Small Town Mission staff at 888-463-5127 or at rstm@lcms.org. \nJoin the webinar at anymeeting.com/lcmsrstm1 at the scheduled time. \nTo receive the webinar invitation link\, sign up for your myLCMS account and under “myInterests” choose “Rural and Small Town Ministries.” \n
URL:https://calendar.lcms.org/event/webinar-active-stewardship-in-the-rural-parish/
CATEGORIES:Rural & Small Town Mission,Rural and Small Town Mission Webinars,Webinars
ATTACH;FMTTYPE=image/jpeg:https://calendar.lcms.org/wp-content/uploads/2014/09/RSTM-03-Featured-1200x630.jpg
ORGANIZER;CN="LCMS%20Rural%20%26%20Small%20Town%20Mission":MAILTO:rstm@lcms.org
END:VEVENT
END:VCALENDAR