BEGIN:VCALENDAR
VERSION:2.0
PRODID:-//LCMS Calendar - ECPv4.9.8//NONSGML v1.0//EN
CALSCALE:GREGORIAN
METHOD:PUBLISH
X-WR-CALNAME:LCMS Calendar
X-ORIGINAL-URL:https://calendar.lcms.org
X-WR-CALDESC:Events for LCMS Calendar
BEGIN:VTIMEZONE
TZID:America/Chicago
BEGIN:DAYLIGHT
TZOFFSETFROM:-0600
TZOFFSETTO:-0500
TZNAME:CDT
DTSTART:20160313T080000
END:DAYLIGHT
BEGIN:STANDARD
TZOFFSETFROM:-0500
TZOFFSETTO:-0600
TZNAME:CST
DTSTART:20161106T070000
END:STANDARD
END:VTIMEZONE
BEGIN:VEVENT
DTSTART;TZID="America/Chicago":20160728T130000
DTEND;TZID="America/Chicago":20160728T140000
DTSTAMP:20210615T105640
CREATED:20151026T162741Z
LAST-MODIFIED:20151026T164239Z
UID:35170-1469710800-1469714400@calendar.lcms.org
SUMMARY:Webinar: Following Through with Strategic Planning
DESCRIPTION:The Rev. Aaron Witt\, Christ Lutheran Church\, Columbus\, Neb.\, will present a webinar entitled “Following Through with Strategic Planning” from 1-2 p.m. Central time on Thursday\, July 28\, 2016. \nTo ask a question\, contact Rural & Small Town Mission staff at 888-463-5127 or at rstm@lcms.org. \nJoin the webinar at anymeeting.com/lcmsrstm1 at the scheduled time. \nTo receive the webinar invitation link\, sign up for your MyLCMS account and under “myInterests” choose “Rural and Small Town Ministries.” \n
URL:https://calendar.lcms.org/event/webinar-following-through-with-strategic-planning/
CATEGORIES:Rural and Small Town Mission Webinars,Webinars
ATTACH;FMTTYPE=image/jpeg:https://calendar.lcms.org/wp-content/uploads/2014/09/RSTM-03-Featured-1200x630.jpg
ORGANIZER;CN="LCMS%20Rural%20%26%20Small%20Town%20Mission":MAILTO:rstm@lcms.org
END:VEVENT
END:VCALENDAR