BEGIN:VCALENDAR
VERSION:2.0
PRODID:-//LCMS Calendar - ECPv4.9.8//NONSGML v1.0//EN
CALSCALE:GREGORIAN
METHOD:PUBLISH
X-WR-CALNAME:LCMS Calendar
X-ORIGINAL-URL:https://calendar.lcms.org
X-WR-CALDESC:Events for LCMS Calendar
BEGIN:VTIMEZONE
TZID:America/Chicago
BEGIN:DAYLIGHT
TZOFFSETFROM:-0600
TZOFFSETTO:-0500
TZNAME:CDT
DTSTART:20180311T080000
END:DAYLIGHT
BEGIN:STANDARD
TZOFFSETFROM:-0500
TZOFFSETTO:-0600
TZNAME:CST
DTSTART:20181104T070000
END:STANDARD
END:VTIMEZONE
BEGIN:VEVENT
DTSTART;TZID="America/Chicago":20181018T130000
DTEND;TZID="America/Chicago":20181018T140000
DTSTAMP:20211009T063133
CREATED:20171211T224022Z
LAST-MODIFIED:20181008T171540Z
UID:36431-1539867600-1539871200@calendar.lcms.org
SUMMARY:Webinar: 'Ministry to Inactives'
DESCRIPTION:LCMS Rural & Small Town Mission will host a free webinar entitled “Ministry to Inactives” from 1-2 p.m. Central time on Thursday\, Oct. 18\, 2018. The presenter is Rev. Todd Kollbaum\, director of LCMS Rural & Small Town Mission. \nTo ask a question\, contact Rural & Small Town Mission staff at 888-463-5127 or at rstm@lcms.org. \nJoin the webinar at anymeeting.com/lcmsrstm1 at the scheduled time. \nTo receive the webinar invitation link\, sign up for your myLCMS account and under “myInterests” choose “Rural and Small Town Ministries.” \n
URL:https://calendar.lcms.org/event/webinar-ministry-inactives/
CATEGORIES:Rural & Small Town Mission,Rural and Small Town Mission Webinars,Webinars
ATTACH;FMTTYPE=image/jpeg:https://calendar.lcms.org/wp-content/uploads/2014/09/RSTM-03-Featured-1200x630.jpg
ORGANIZER;CN="LCMS%20Rural%20%26%20Small%20Town%20Mission":MAILTO:rstm@lcms.org
END:VEVENT
END:VCALENDAR