BEGIN:VCALENDAR
VERSION:2.0
PRODID:-//LCMS Calendar - ECPv4.9.8//NONSGML v1.0//EN
CALSCALE:GREGORIAN
METHOD:PUBLISH
X-WR-CALNAME:LCMS Calendar
X-ORIGINAL-URL:https://calendar.lcms.org
X-WR-CALDESC:Events for LCMS Calendar
BEGIN:VTIMEZONE
TZID:America/Chicago
BEGIN:DAYLIGHT
TZOFFSETFROM:-0600
TZOFFSETTO:-0500
TZNAME:CDT
DTSTART:20200308T080000
END:DAYLIGHT
BEGIN:STANDARD
TZOFFSETFROM:-0500
TZOFFSETTO:-0600
TZNAME:CST
DTSTART:20201101T070000
END:STANDARD
END:VTIMEZONE
BEGIN:VEVENT
DTSTART;TZID="America/Chicago":20200715T130000
DTEND;TZID="America/Chicago":20200715T140000
DTSTAMP:20210603T094618
CREATED:20200427T213154Z
LAST-MODIFIED:20200505T174104Z
UID:37657-1594818000-1594821600@calendar.lcms.org
SUMMARY:Webinar: ‘Ministry with People with Disabilities’
DESCRIPTION: \nHosted by LCMS Urban & Inner-City Mission\, Deaconess Kimberly Trombley presents a free webinar on “Ministry with People with Disabilities” from 1-2 p.m. Central time on Wednesday\, July 15\, 2020. \nJoin Deaconess Trombley to learn practical ways to include people of all abilities in your congregation. \nThe body of Christ is best when it is complete. Including people with disabilities is part of God’s plan since we are all fearfully and wonderfully made in His image. \nHow to attend webinar\n\nBefore the start time\, attendees must register online.\nLogin information will be emailed after registering.\nAttendees may ask questions during the Zoom webinar.\n\nRegister \n\nUrban & Inner-City Mission email updates\nSign up to receive email notifications about Urban & Inner-City Mission webinars and resources. Registration only requires your email address\, name and zip code. Check the “Urban Ministry” option on the form. \nSign up \n
URL:https://calendar.lcms.org/event/webinar-ministry-with-people-with-disabilities/
CATEGORIES:Urban & Inner-City Mission,Webinars
ATTACH;FMTTYPE=image/jpeg:https://calendar.lcms.org/wp-content/uploads/2019/01/UICM-Webinars-Featured-Image-1200x630.jpg
ORGANIZER;CN="LCMS%20Urban%20%26%20Inner-City%20Mission":MAILTO:uicm@lcms.org
END:VEVENT
END:VCALENDAR