BEGIN:VCALENDAR
VERSION:2.0
PRODID:-//LCMS Calendar - ECPv6.15.16//NONSGML v1.0//EN
CALSCALE:GREGORIAN
METHOD:PUBLISH
X-WR-CALNAME:LCMS Calendar
X-ORIGINAL-URL:https://calendar.lcms.org
X-WR-CALDESC:Events for LCMS Calendar
REFRESH-INTERVAL;VALUE=DURATION:PT1H
X-Robots-Tag:noindex
X-PUBLISHED-TTL:PT1H
BEGIN:VTIMEZONE
TZID:America/Chicago
BEGIN:DAYLIGHT
TZOFFSETFROM:-0600
TZOFFSETTO:-0500
TZNAME:CDT
DTSTART:20250309T080000
END:DAYLIGHT
BEGIN:STANDARD
TZOFFSETFROM:-0500
TZOFFSETTO:-0600
TZNAME:CST
DTSTART:20251102T070000
END:STANDARD
BEGIN:DAYLIGHT
TZOFFSETFROM:-0600
TZOFFSETTO:-0500
TZNAME:CDT
DTSTART:20260308T080000
END:DAYLIGHT
BEGIN:STANDARD
TZOFFSETFROM:-0500
TZOFFSETTO:-0600
TZNAME:CST
DTSTART:20261101T070000
END:STANDARD
BEGIN:DAYLIGHT
TZOFFSETFROM:-0600
TZOFFSETTO:-0500
TZNAME:CDT
DTSTART:20270314T080000
END:DAYLIGHT
BEGIN:STANDARD
TZOFFSETFROM:-0500
TZOFFSETTO:-0600
TZNAME:CST
DTSTART:20271107T070000
END:STANDARD
END:VTIMEZONE
BEGIN:VEVENT
DTSTART;VALUE=DATE:20260123
DTEND;VALUE=DATE:20260124
DTSTAMP:20260419T091526
CREATED:20250416T164115Z
LAST-MODIFIED:20251208T233810Z
UID:10001459-1769126400-1769212799@calendar.lcms.org
SUMMARY:2026 National March for Life in Washington\, D.C.
DESCRIPTION:The 2026 National March for Life is in Washington\, D.C. on Friday\, January 23\, 2026. Plan now to join other Lutherans to march and stand boldly together in the public square and confess our beliefs about the sanctity of life. More information is to come. \nRegister Now
URL:https://calendar.lcms.org/event/2026-national-march-for-life-in-washington-d-c/
LOCATION:Washington\, D.C.\, 12th and 14th Streets\, Washington D.C.\, 20002\, United States
CATEGORIES:Featured Events,Pro-life events
ATTACH;FMTTYPE=image/jpeg:https://calendar.lcms.org/wp-content/uploads/2023/01/Pro-life-Event-Featured-Image-2.jpg
ORGANIZER;CN="LCMS Life Ministry":MAILTO:lifeministry@lcms.org
GEO:38.938678;-77.0327217
X-APPLE-STRUCTURED-LOCATION;VALUE=URI;X-ADDRESS=Washington D.C. 12th and 14th Streets Washington D.C. 20002 United States;X-APPLE-RADIUS=500;X-TITLE=12th and 14th Streets:geo:-77.0327217,38.938678
END:VEVENT
END:VCALENDAR