BEGIN:VCALENDAR
VERSION:2.0
PRODID:-//LCMS Calendar - ECPv6.15.16//NONSGML v1.0//EN
CALSCALE:GREGORIAN
METHOD:PUBLISH
X-WR-CALNAME:LCMS Calendar
X-ORIGINAL-URL:https://calendar.lcms.org
X-WR-CALDESC:Events for LCMS Calendar
REFRESH-INTERVAL;VALUE=DURATION:PT1H
X-Robots-Tag:noindex
X-PUBLISHED-TTL:PT1H
BEGIN:VTIMEZONE
TZID:America/Chicago
BEGIN:DAYLIGHT
TZOFFSETFROM:-0600
TZOFFSETTO:-0500
TZNAME:CDT
DTSTART:20240310T080000
END:DAYLIGHT
BEGIN:STANDARD
TZOFFSETFROM:-0500
TZOFFSETTO:-0600
TZNAME:CST
DTSTART:20241103T070000
END:STANDARD
BEGIN:DAYLIGHT
TZOFFSETFROM:-0600
TZOFFSETTO:-0500
TZNAME:CDT
DTSTART:20250309T080000
END:DAYLIGHT
BEGIN:STANDARD
TZOFFSETFROM:-0500
TZOFFSETTO:-0600
TZNAME:CST
DTSTART:20251102T070000
END:STANDARD
BEGIN:DAYLIGHT
TZOFFSETFROM:-0600
TZOFFSETTO:-0500
TZNAME:CDT
DTSTART:20260308T080000
END:DAYLIGHT
BEGIN:STANDARD
TZOFFSETFROM:-0500
TZOFFSETTO:-0600
TZNAME:CST
DTSTART:20261101T070000
END:STANDARD
END:VTIMEZONE
BEGIN:VEVENT
DTSTART;VALUE=DATE:20250426
DTEND;VALUE=DATE:20250502
DTSTAMP:20260425T094751
CREATED:20240926T195156Z
LAST-MODIFIED:20241101T181306Z
UID:10001433-1745625600-1746143999@calendar.lcms.org
SUMMARY:Council of Presidents - April 2025
DESCRIPTION:The Lutheran Church—Missouri Synod’s Council of Presidents is scheduled to meet on April 26-May 1\, 2025. \nThe President\, vice-presidents\, and district presidents of the Synod comprise the 42-member Council of Presidents\, which meets four times each year to provide opportunity for mutual counsel regarding the doctrine and administration of the Synod and to edify and support one another in the work that they share\, those responsibilities found throughout the Constitution and Bylaws of the Synod.
URL:https://calendar.lcms.org/event/council-of-presidents-april-2025/
CATEGORIES:Committee Meeting,Meetings
ATTACH;FMTTYPE=image/jpeg:https://calendar.lcms.org/wp-content/uploads/2018/09/Meetings-02-Featured-Blue-1200x600.jpg
ORGANIZER;CN="The Lutheran Church%E2%80%94Missouri Synod":MAILTO:help@lcms.org
END:VEVENT
BEGIN:VEVENT
DTSTART;VALUE=DATE:20250501
DTEND;VALUE=DATE:20250503
DTSTAMP:20260425T094751
CREATED:20230922T182821Z
LAST-MODIFIED:20230922T183514Z
UID:10001269-1746057600-1746230399@calendar.lcms.org
SUMMARY:LCMS Board for International Mission meeting – May 1-2\, 2025
DESCRIPTION:The LCMS Board for International Mission is scheduled to meet on May 1-2\, 2025\, in St. Louis. \nThe Board for International Mission is charged with developing and determining policies in support of mission and ministry in foreign countries for the Office of International Mission.
URL:https://calendar.lcms.org/event/board-for-international-mission-meeting-may-1-2-2025/
CATEGORIES:Board for International Mission,Meetings
ATTACH;FMTTYPE=image/jpeg:https://calendar.lcms.org/wp-content/uploads/2018/09/Meetings-01-Featured-Blue-1200x600.jpg
ORGANIZER;CN="The Lutheran Church%E2%80%94Missouri Synod":MAILTO:help@lcms.org
END:VEVENT
BEGIN:VEVENT
DTSTART;VALUE=DATE:20250508
DTEND;VALUE=DATE:20250510
DTSTAMP:20260425T094751
CREATED:20231023T192358Z
LAST-MODIFIED:20231023T192358Z
UID:10001305-1746662400-1746835199@calendar.lcms.org
SUMMARY:Board for National Mission - May 2025 meeting
DESCRIPTION:The LCMS Board for National Mission is scheduled to meet on Thursday\, May 8\, and on Friday\, May 9\, 2025. \nThe Board for National Mission is charged with developing and determining policies for the coordination of and in support of district ministries which support congregations and schools. \nRead more about the LCMS Board for National Mission.
URL:https://calendar.lcms.org/event/board-for-national-mission-may-2025-meeting/
CATEGORIES:Board for National Mission,Meetings
ATTACH;FMTTYPE=image/jpeg:https://calendar.lcms.org/wp-content/uploads/2018/09/Meetings-03-Featured-Blue-1200x600.jpg
ORGANIZER;CN="The Lutheran Church%E2%80%94Missouri Synod":MAILTO:help@lcms.org
END:VEVENT
BEGIN:VEVENT
DTSTART;VALUE=DATE:20250523
DTEND;VALUE=DATE:20250525
DTSTAMP:20260425T094751
CREATED:20231020T193634Z
LAST-MODIFIED:20240703T194918Z
UID:10001296-1747958400-1748131199@calendar.lcms.org
SUMMARY:LCMS Board of Directors - May 2025 meeting
DESCRIPTION:The Lutheran Church—Missouri Synod’s Board of Directors is scheduled to meet on May. 23-24\, 2025\, in St. Louis. \nThe Board of Directors is the legal representative of the LCMS\, and it is the custodian of all the property of the Synod — directly or by its delegation of such authority to an agency of the Synod. \nThe BOD exercises supervision over all the property and business affairs of the Synod\, except in those areas where it has delegated such authority to an agency of the Synod or where the voting members of the Synod\, through the adoption of bylaws or by other convention action\, have assigned specific areas of responsibility to separate corporate or trust entities. \nIn such circumstances\, the BOD retains general oversight responsibility as defined in Synod Bylaws.
URL:https://calendar.lcms.org/event/lcms-board-of-directors-may-2025-meeting/
CATEGORIES:LCMS Board of Directors,Meetings
ATTACH;FMTTYPE=image/jpeg:https://calendar.lcms.org/wp-content/uploads/2018/09/Meetings-02-Featured-Blue-1200x600.jpg
ORGANIZER;CN="LCMS Board of Directors":MAILTO:bod@lcms.org
END:VEVENT
END:VCALENDAR