BEGIN:VCALENDAR
VERSION:2.0
PRODID:-//LCMS Calendar - ECPv6.15.16//NONSGML v1.0//EN
CALSCALE:GREGORIAN
METHOD:PUBLISH
X-WR-CALNAME:LCMS Calendar
X-ORIGINAL-URL:https://calendar.lcms.org
X-WR-CALDESC:Events for LCMS Calendar
REFRESH-INTERVAL;VALUE=DURATION:PT1H
X-Robots-Tag:noindex
X-PUBLISHED-TTL:PT1H
BEGIN:VTIMEZONE
TZID:America/Chicago
BEGIN:DAYLIGHT
TZOFFSETFROM:-0600
TZOFFSETTO:-0500
TZNAME:CDT
DTSTART:20220313T080000
END:DAYLIGHT
BEGIN:STANDARD
TZOFFSETFROM:-0500
TZOFFSETTO:-0600
TZNAME:CST
DTSTART:20221106T070000
END:STANDARD
BEGIN:DAYLIGHT
TZOFFSETFROM:-0600
TZOFFSETTO:-0500
TZNAME:CDT
DTSTART:20230312T080000
END:DAYLIGHT
BEGIN:STANDARD
TZOFFSETFROM:-0500
TZOFFSETTO:-0600
TZNAME:CST
DTSTART:20231105T070000
END:STANDARD
BEGIN:DAYLIGHT
TZOFFSETFROM:-0600
TZOFFSETTO:-0500
TZNAME:CDT
DTSTART:20240310T080000
END:DAYLIGHT
BEGIN:STANDARD
TZOFFSETFROM:-0500
TZOFFSETTO:-0600
TZNAME:CST
DTSTART:20241103T070000
END:STANDARD
BEGIN:DAYLIGHT
TZOFFSETFROM:-0600
TZOFFSETTO:-0500
TZNAME:CDT
DTSTART:20250309T080000
END:DAYLIGHT
BEGIN:STANDARD
TZOFFSETFROM:-0500
TZOFFSETTO:-0600
TZNAME:CST
DTSTART:20251102T070000
END:STANDARD
BEGIN:DAYLIGHT
TZOFFSETFROM:-0600
TZOFFSETTO:-0500
TZNAME:CDT
DTSTART:20260308T080000
END:DAYLIGHT
BEGIN:STANDARD
TZOFFSETFROM:-0500
TZOFFSETTO:-0600
TZNAME:CST
DTSTART:20261101T070000
END:STANDARD
BEGIN:DAYLIGHT
TZOFFSETFROM:-0600
TZOFFSETTO:-0500
TZNAME:CDT
DTSTART:20270314T080000
END:DAYLIGHT
BEGIN:STANDARD
TZOFFSETFROM:-0500
TZOFFSETTO:-0600
TZNAME:CST
DTSTART:20271107T070000
END:STANDARD
END:VTIMEZONE
BEGIN:VEVENT
DTSTART;VALUE=DATE:20230914
DTEND;VALUE=DATE:20230916
DTSTAMP:20260420T025103
CREATED:20230922T045004Z
LAST-MODIFIED:20230922T183626Z
UID:10001263-1694649600-1694822399@calendar.lcms.org
SUMMARY:LCMS Board for International Mission meeting – Sept. 14-15\, 2023
DESCRIPTION:The LCMS Board for International Mission is scheduled to meet Sept. 14-15\, 2023\, in St. Louis. \nThe Board for International Mission is charged with developing and determining policies in support of mission and ministry in foreign countries for the Office of International Mission.
URL:https://calendar.lcms.org/event/board-for-international-mission-meeting-sept-14-15-2023/
CATEGORIES:Board for International Mission,Meetings
ATTACH;FMTTYPE=image/jpeg:https://calendar.lcms.org/wp-content/uploads/2018/09/Meetings-01-Featured-Blue-1200x600.jpg
ORGANIZER;CN="The Lutheran Church%E2%80%94Missouri Synod":MAILTO:help@lcms.org
END:VEVENT
BEGIN:VEVENT
DTSTART;VALUE=DATE:20231130
DTEND;VALUE=DATE:20231202
DTSTAMP:20260420T025103
CREATED:20230922T174755Z
LAST-MODIFIED:20230922T183607Z
UID:10001264-1701302400-1701475199@calendar.lcms.org
SUMMARY:LCMS Board for International Mission meeting – Nov. 30-Dec. 1\, 2023
DESCRIPTION:The LCMS Board for International Mission is scheduled to meet Nov. 30-Dec. 1\, 2023\, in St. Louis. \nThe Board for International Mission is charged with developing and determining policies in support of mission and ministry in foreign countries for the Office of International Mission.
URL:https://calendar.lcms.org/event/board-for-international-mission-meeting-nov-30-dec-1-2023/
CATEGORIES:Board for International Mission,Meetings
ATTACH;FMTTYPE=image/jpeg:https://calendar.lcms.org/wp-content/uploads/2018/09/Meetings-01-Featured-Blue-1200x600.jpg
ORGANIZER;CN="The Lutheran Church%E2%80%94Missouri Synod":MAILTO:help@lcms.org
END:VEVENT
BEGIN:VEVENT
DTSTART;VALUE=DATE:20240131
DTEND;VALUE=DATE:20240201
DTSTAMP:20260420T025103
CREATED:20230925T172253Z
LAST-MODIFIED:20230925T172326Z
UID:10001276-1706659200-1706745599@calendar.lcms.org
SUMMARY:LCMS Board for International Mission meeting – Jan. 31\, 2024
DESCRIPTION:The LCMS Board for International Mission is scheduled to meet on Jan. 31\, 2024\, via Zoom video conference call. \nThe Board for International Mission is charged with developing and determining policies in support of mission and ministry in foreign countries for the Office of International Mission.
URL:https://calendar.lcms.org/event/board-for-international-mission-meeting-january-31-2024/
CATEGORIES:Board for International Mission,Meetings
ATTACH;FMTTYPE=image/jpeg:https://calendar.lcms.org/wp-content/uploads/2018/09/Meetings-01-Featured-Blue-1200x600.jpg
END:VEVENT
BEGIN:VEVENT
DTSTART;VALUE=DATE:20240502
DTEND;VALUE=DATE:20240504
DTSTAMP:20260420T025103
CREATED:20230922T182023Z
LAST-MODIFIED:20230922T183546Z
UID:10001266-1714608000-1714780799@calendar.lcms.org
SUMMARY:LCMS Board for International Mission meeting – May 2-3\, 2024
DESCRIPTION:The LCMS Board for International Mission is scheduled to meet on May 2-3\, 2024\, in St. Louis. \nThe Board for International Mission is charged with developing and determining policies in support of mission and ministry in foreign countries for the Office of International Mission.
URL:https://calendar.lcms.org/event/board-for-international-mission-meeting-may-2-3-2024/
CATEGORIES:Board for International Mission,Meetings
ATTACH;FMTTYPE=image/jpeg:https://calendar.lcms.org/wp-content/uploads/2018/09/Meetings-01-Featured-Blue-1200x600.jpg
ORGANIZER;CN="The Lutheran Church%E2%80%94Missouri Synod":MAILTO:help@lcms.org
END:VEVENT
BEGIN:VEVENT
DTSTART;VALUE=DATE:20240905
DTEND;VALUE=DATE:20240907
DTSTAMP:20260420T025103
CREATED:20230922T182302Z
LAST-MODIFIED:20230922T183536Z
UID:10001267-1725494400-1725667199@calendar.lcms.org
SUMMARY:LCMS Board for International Mission meeting – Sept. 5-6\, 2024
DESCRIPTION:The LCMS Board for International Mission is scheduled to meet on Sept. 5-6\, 2024\, in St. Louis. \nThe Board for International Mission is charged with developing and determining policies in support of mission and ministry in foreign countries for the Office of International Mission.
URL:https://calendar.lcms.org/event/board-for-international-mission-meeting-sept-5-6-2024/
CATEGORIES:Board for International Mission,Meetings
ATTACH;FMTTYPE=image/jpeg:https://calendar.lcms.org/wp-content/uploads/2018/09/Meetings-01-Featured-Blue-1200x600.jpg
ORGANIZER;CN="The Lutheran Church%E2%80%94Missouri Synod":MAILTO:help@lcms.org
END:VEVENT
BEGIN:VEVENT
DTSTART;VALUE=DATE:20241107
DTEND;VALUE=DATE:20241109
DTSTAMP:20260420T025103
CREATED:20230922T182440Z
LAST-MODIFIED:20230922T183528Z
UID:10001268-1730937600-1731110399@calendar.lcms.org
SUMMARY:LCMS Board for International Mission meeting – Nov. 7-8\, 2024
DESCRIPTION:The LCMS Board for International Mission is scheduled to meet on Nov. 7-8\, 2024\, in St. Louis. \nThe Board for International Mission is charged with developing and determining policies in support of mission and ministry in foreign countries for the Office of International Mission.
URL:https://calendar.lcms.org/event/board-for-international-mission-meeting-nov-7-8-2024/
CATEGORIES:Board for International Mission,Meetings
ATTACH;FMTTYPE=image/jpeg:https://calendar.lcms.org/wp-content/uploads/2018/09/Meetings-01-Featured-Blue-1200x600.jpg
ORGANIZER;CN="The Lutheran Church%E2%80%94Missouri Synod":MAILTO:help@lcms.org
END:VEVENT
BEGIN:VEVENT
DTSTART;VALUE=DATE:20250130
DTEND;VALUE=DATE:20250131
DTSTAMP:20260420T025103
CREATED:20230925T172631Z
LAST-MODIFIED:20230925T172631Z
UID:10001277-1738195200-1738281599@calendar.lcms.org
SUMMARY:LCMS Board for International Mission meeting – Jan. 30\, 2025
DESCRIPTION:The LCMS Board for International Mission is scheduled to meet on Jan. 30\, 2025\, via Zoom video conference call. \nThe Board for International Mission is charged with developing and determining policies in support of mission and ministry in foreign countries for the Office of International Mission.
URL:https://calendar.lcms.org/event/board-for-international-mission-meeting-january-30-2025/
CATEGORIES:Board for International Mission,Meetings
ATTACH;FMTTYPE=image/jpeg:https://calendar.lcms.org/wp-content/uploads/2018/09/Meetings-01-Featured-Blue-1200x600.jpg
END:VEVENT
BEGIN:VEVENT
DTSTART;VALUE=DATE:20250501
DTEND;VALUE=DATE:20250503
DTSTAMP:20260420T025103
CREATED:20230922T182821Z
LAST-MODIFIED:20230922T183514Z
UID:10001269-1746057600-1746230399@calendar.lcms.org
SUMMARY:LCMS Board for International Mission meeting – May 1-2\, 2025
DESCRIPTION:The LCMS Board for International Mission is scheduled to meet on May 1-2\, 2025\, in St. Louis. \nThe Board for International Mission is charged with developing and determining policies in support of mission and ministry in foreign countries for the Office of International Mission.
URL:https://calendar.lcms.org/event/board-for-international-mission-meeting-may-1-2-2025/
CATEGORIES:Board for International Mission,Meetings
ATTACH;FMTTYPE=image/jpeg:https://calendar.lcms.org/wp-content/uploads/2018/09/Meetings-01-Featured-Blue-1200x600.jpg
ORGANIZER;CN="The Lutheran Church%E2%80%94Missouri Synod":MAILTO:help@lcms.org
END:VEVENT
BEGIN:VEVENT
DTSTART;VALUE=DATE:20250904
DTEND;VALUE=DATE:20250906
DTSTAMP:20260420T025103
CREATED:20230922T182952Z
LAST-MODIFIED:20230922T183504Z
UID:10001270-1756944000-1757116799@calendar.lcms.org
SUMMARY:LCMS Board for International Mission meeting – Sept. 4-5\, 2025
DESCRIPTION:The LCMS Board for International Mission is scheduled to meet on Sept. 4-5\, 2025\, in St. Louis. \nThe Board for International Mission is charged with developing and determining policies in support of mission and ministry in foreign countries for the Office of International Mission.
URL:https://calendar.lcms.org/event/board-for-international-mission-meeting-sept-4-5-2025/
CATEGORIES:Board for International Mission,Meetings
ATTACH;FMTTYPE=image/jpeg:https://calendar.lcms.org/wp-content/uploads/2018/09/Meetings-01-Featured-Blue-1200x600.jpg
ORGANIZER;CN="The Lutheran Church%E2%80%94Missouri Synod":MAILTO:help@lcms.org
END:VEVENT
BEGIN:VEVENT
DTSTART;VALUE=DATE:20251106
DTEND;VALUE=DATE:20251108
DTSTAMP:20260420T025103
CREATED:20230922T183135Z
LAST-MODIFIED:20230922T183456Z
UID:10001271-1762387200-1762559999@calendar.lcms.org
SUMMARY:LCMS Board for International Mission meeting – Nov. 6-7\, 2025
DESCRIPTION:The LCMS Board for International Mission is scheduled to meet on Nov. 6-7\, 2025\, in St. Louis. \nThe Board for International Mission is charged with developing and determining policies in support of mission and ministry in foreign countries for the Office of International Mission.
URL:https://calendar.lcms.org/event/board-for-international-mission-meeting-nov-6-7-2025/
CATEGORIES:Board for International Mission,Meetings
ATTACH;FMTTYPE=image/jpeg:https://calendar.lcms.org/wp-content/uploads/2018/09/Meetings-01-Featured-Blue-1200x600.jpg
ORGANIZER;CN="The Lutheran Church%E2%80%94Missouri Synod":MAILTO:help@lcms.org
END:VEVENT
BEGIN:VEVENT
DTSTART;VALUE=DATE:20260128
DTEND;VALUE=DATE:20260129
DTSTAMP:20260420T025103
CREATED:20230925T171621Z
LAST-MODIFIED:20230925T171621Z
UID:10001275-1769558400-1769644799@calendar.lcms.org
SUMMARY:LCMS Board for International Mission meeting – Jan. 28\, 2026
DESCRIPTION:The LCMS Board for International Mission is scheduled to meet on Jan. 28\, 2026\, via Zoom video conference call. \nThe Board for International Mission is charged with developing and determining policies in support of mission and ministry in foreign countries for the Office of International Mission.
URL:https://calendar.lcms.org/event/board-for-international-mission-meeting-january-28-2026/
CATEGORIES:Board for International Mission,Meetings
ATTACH;FMTTYPE=image/jpeg:https://calendar.lcms.org/wp-content/uploads/2018/09/Meetings-01-Featured-Blue-1200x600.jpg
ORGANIZER;CN="The Lutheran Church%E2%80%94Missouri Synod":MAILTO:help@lcms.org
END:VEVENT
END:VCALENDAR