BEGIN:VCALENDAR
VERSION:2.0
PRODID:-//LCMS Calendar - ECPv6.15.16//NONSGML v1.0//EN
CALSCALE:GREGORIAN
METHOD:PUBLISH
X-WR-CALNAME:LCMS Calendar
X-ORIGINAL-URL:https://calendar.lcms.org
X-WR-CALDESC:Events for LCMS Calendar
REFRESH-INTERVAL;VALUE=DURATION:PT1H
X-Robots-Tag:noindex
X-PUBLISHED-TTL:PT1H
BEGIN:VTIMEZONE
TZID:America/Chicago
BEGIN:DAYLIGHT
TZOFFSETFROM:-0600
TZOFFSETTO:-0500
TZNAME:CDT
DTSTART:20220313T080000
END:DAYLIGHT
BEGIN:STANDARD
TZOFFSETFROM:-0500
TZOFFSETTO:-0600
TZNAME:CST
DTSTART:20221106T070000
END:STANDARD
BEGIN:DAYLIGHT
TZOFFSETFROM:-0600
TZOFFSETTO:-0500
TZNAME:CDT
DTSTART:20230312T080000
END:DAYLIGHT
BEGIN:STANDARD
TZOFFSETFROM:-0500
TZOFFSETTO:-0600
TZNAME:CST
DTSTART:20231105T070000
END:STANDARD
BEGIN:DAYLIGHT
TZOFFSETFROM:-0600
TZOFFSETTO:-0500
TZNAME:CDT
DTSTART:20240310T080000
END:DAYLIGHT
BEGIN:STANDARD
TZOFFSETFROM:-0500
TZOFFSETTO:-0600
TZNAME:CST
DTSTART:20241103T070000
END:STANDARD
END:VTIMEZONE
BEGIN:VEVENT
DTSTART;VALUE=DATE:20231130
DTEND;VALUE=DATE:20231202
DTSTAMP:20260422T165556
CREATED:20230922T174755Z
LAST-MODIFIED:20230922T183607Z
UID:10001264-1701302400-1701475199@calendar.lcms.org
SUMMARY:LCMS Board for International Mission meeting – Nov. 30-Dec. 1\, 2023
DESCRIPTION:The LCMS Board for International Mission is scheduled to meet Nov. 30-Dec. 1\, 2023\, in St. Louis. \nThe Board for International Mission is charged with developing and determining policies in support of mission and ministry in foreign countries for the Office of International Mission.
URL:https://calendar.lcms.org/event/board-for-international-mission-meeting-nov-30-dec-1-2023/
CATEGORIES:Board for International Mission,Meetings
ATTACH;FMTTYPE=image/jpeg:https://calendar.lcms.org/wp-content/uploads/2018/09/Meetings-01-Featured-Blue-1200x600.jpg
ORGANIZER;CN="The Lutheran Church%E2%80%94Missouri Synod":MAILTO:help@lcms.org
END:VEVENT
END:VCALENDAR