BEGIN:VCALENDAR
VERSION:2.0
PRODID:-//LCMS Calendar - ECPv6.15.16//NONSGML v1.0//EN
CALSCALE:GREGORIAN
METHOD:PUBLISH
X-WR-CALNAME:LCMS Calendar
X-ORIGINAL-URL:https://calendar.lcms.org
X-WR-CALDESC:Events for LCMS Calendar
REFRESH-INTERVAL;VALUE=DURATION:PT1H
X-Robots-Tag:noindex
X-PUBLISHED-TTL:PT1H
BEGIN:VTIMEZONE
TZID:America/Chicago
BEGIN:DAYLIGHT
TZOFFSETFROM:-0600
TZOFFSETTO:-0500
TZNAME:CDT
DTSTART:20240310T080000
END:DAYLIGHT
BEGIN:STANDARD
TZOFFSETFROM:-0500
TZOFFSETTO:-0600
TZNAME:CST
DTSTART:20241103T070000
END:STANDARD
BEGIN:DAYLIGHT
TZOFFSETFROM:-0600
TZOFFSETTO:-0500
TZNAME:CDT
DTSTART:20250309T080000
END:DAYLIGHT
BEGIN:STANDARD
TZOFFSETFROM:-0500
TZOFFSETTO:-0600
TZNAME:CST
DTSTART:20251102T070000
END:STANDARD
BEGIN:DAYLIGHT
TZOFFSETFROM:-0600
TZOFFSETTO:-0500
TZNAME:CDT
DTSTART:20260308T080000
END:DAYLIGHT
BEGIN:STANDARD
TZOFFSETFROM:-0500
TZOFFSETTO:-0600
TZNAME:CST
DTSTART:20261101T070000
END:STANDARD
END:VTIMEZONE
BEGIN:VTIMEZONE
TZID:America/Los_Angeles
BEGIN:DAYLIGHT
TZOFFSETFROM:-0800
TZOFFSETTO:-0700
TZNAME:PDT
DTSTART:20240310T100000
END:DAYLIGHT
BEGIN:STANDARD
TZOFFSETFROM:-0700
TZOFFSETTO:-0800
TZNAME:PST
DTSTART:20241103T090000
END:STANDARD
BEGIN:DAYLIGHT
TZOFFSETFROM:-0800
TZOFFSETTO:-0700
TZNAME:PDT
DTSTART:20250309T100000
END:DAYLIGHT
BEGIN:STANDARD
TZOFFSETFROM:-0700
TZOFFSETTO:-0800
TZNAME:PST
DTSTART:20251102T090000
END:STANDARD
BEGIN:DAYLIGHT
TZOFFSETFROM:-0800
TZOFFSETTO:-0700
TZNAME:PDT
DTSTART:20260308T100000
END:DAYLIGHT
BEGIN:STANDARD
TZOFFSETFROM:-0700
TZOFFSETTO:-0800
TZNAME:PST
DTSTART:20261101T090000
END:STANDARD
END:VTIMEZONE
BEGIN:VEVENT
DTSTART;VALUE=DATE:20250605
DTEND;VALUE=DATE:20250608
DTSTAMP:20260420T115212
CREATED:20240628T153921Z
LAST-MODIFIED:20240705T225646Z
UID:10001394-1749081600-1749340799@calendar.lcms.org
SUMMARY:LCMS Florida-Georgia District Convention — 2025
DESCRIPTION:The Lutheran Church—Missouri Synod’s 2025 Florida-Georgia District Convention is scheduled for Thursday\, June 5\, to Saturday\, June 7\, in Kissimmee\, Fla.\, at the Embassy Suites by Hilton Orlando Lake Buena Vista South. \nDistrict conventions\, which are held every three years by each of the Synod’s 35 districts\, take place the year before the triennial LCMS national convention. \nThe schedule includes time for conducting business\, electing officers\, and sharing information. The conventions also offer opportunities for worship\, nurture\, inspiration\, and fellowship. \nPastors\, teachers\, other commissioned ministers\, and lay delegates elected by congregations are required to attend. \nGeneral sessions are open to anyone who wishes to attend as an observer\, and guests are also invited to the worship services. \nLCMS Florida-Georgia District Office \n\nProfile — Florida-Georgia District\n\n\nWeb — flgadistrict.org\n\n\nEmail — communications@flgadistrict.org\n\n\nPhone — 407-857-5556
URL:https://calendar.lcms.org/event/florida-georgia-district-convention-2025/
LOCATION:Embassy Suites by Hilton Orlando Lake Buena Vista South: Kissimmee\, Fla.\, 4955 Kyngs Heath Road\, Kissimmee\, FL\, 34746\, United States
CATEGORIES:Conventions,LCMS District Conventions
ATTACH;FMTTYPE=image/jpeg:https://calendar.lcms.org/wp-content/uploads/2017/06/LCMS-District-Conventions-Featured-Image.jpg
ORGANIZER;CN="LCMS Florida-Georgia District":MAILTO:communications@flgadistrict.org
GEO:28.3362486;-81.481282
X-APPLE-STRUCTURED-LOCATION;VALUE=URI;X-ADDRESS=Embassy Suites by Hilton Orlando Lake Buena Vista South: Kissimmee Fla. 4955 Kyngs Heath Road Kissimmee FL 34746 United States;X-APPLE-RADIUS=500;X-TITLE=4955 Kyngs Heath Road:geo:-81.481282,28.3362486
END:VEVENT
BEGIN:VEVENT
DTSTART;VALUE=DATE:20250607
DTEND;VALUE=DATE:20250608
DTSTAMP:20260420T115212
CREATED:20250428T201413Z
LAST-MODIFIED:20250428T201620Z
UID:10001461-1749254400-1749340799@calendar.lcms.org
SUMMARY:2025 Oklahoma March for Life in Oklahoma City
DESCRIPTION:The 2025 Oklahoma March for Life in Oklahoma City is Saturday\, June 7. Register to witness to the sanctity of life. \nRegister Now \n\n 
URL:https://calendar.lcms.org/event/2025-oklahoma-march-for-life-in-oklahoma-city/
LOCATION:Oklahoma City\, Oklahoma\, OK\, United States
CATEGORIES:Pro-life events
ATTACH;FMTTYPE=image/jpeg:https://calendar.lcms.org/wp-content/uploads/2024/03/030124-eml-Arizona-March-for-Life-0009-scaled.jpg
ORGANIZER;CN="LCMS Life Ministry":MAILTO:lifeministry@lcms.org
GEO:40.4172871;-82.907123
END:VEVENT
BEGIN:VEVENT
DTSTART;VALUE=DATE:20250608
DTEND;VALUE=DATE:20250609
DTSTAMP:20260420T115212
CREATED:20240716T205607Z
LAST-MODIFIED:20240716T205636Z
UID:10001417-1749340800-1749427199@calendar.lcms.org
SUMMARY:Pentecost
DESCRIPTION:The Day of Pentecost will be celebrated on Sunday\, June 8\, 2025. \nTo attend a Pentecost service\, visit locator.lcms.org/church to find a local Lutheran Church—Missouri Synod congregation. Enter your zip code and click “Search” to see a list of area churches\, service times\, and contact information. \nIf you are homebound\, traveling\, or otherwise unable to attend a service in person\, KFUO Radio airs worship services throughout the church year. Visit KFUO.org to view the schedule and listen to services. \nFind church near me \n\nWhat is Pentecost?\nThe word “Pentecost” (pronounced PEN-tuh-kost) comes from the Greek word pentekostos which means “fiftieth.” Exactly 50 days after Jesus rose from the dead\, the Holy Spirit came upon the disciples in the form of flames of fire. \n\nBulletin inserts\nKids in the Divine Service — Pentecost \n\nEnglish\n\n\nSpanish\n\n\nLiturgical color for Pentecost\nThe altar will be adorned with red. Red is a power color and is appropriate for use on Pentecost Sunday. On this day we remember the power and fire of “the Lord and Giver of Life\,” who revealed himself as the promised one. The color red communicates the motif of strength-strength and power the Holy Spirit gives in order for God’s people to call on the name of Jesus Christ and share that powerful name with others. \n\nThree-Year Series C and One-Year Series\nScripture readings\n\nPsalm 143\n\n\nGen. 11:1–9\n\n\nActs 2:1–21\n\n\nJohn 14:23–31\n\nLectionary summary\nThe Holy Spirit Gives Peace\nFollowing the flood\, Noahs descendants failed to spread out and fill the earth as God had spoken. Rather\, they exalted themselves; with one language and the same words (Gen. 11:1)\, they spoke proudly and arrogantly. The Lord humbled them by confusing the language of all the earth\,dividing and dispersing the people (Gen. 11:9). That dispersal was reversed on Pentecost Day (the 50th day of Easter)\, when God caused the one Gospel of the Lord Jesus Christ to be preached in a multitude of languages. At this sound the multitude came together (Acts 2:6)\, for the preaching of Christ is the primary work of the Holy Spirit\, whereby He gathers people from all nations into one Church. The Holy Spirit teaches and brings to our remembrance the words of Jesus\, which are the words of the Father who sent Him. These words bestow forgiveness and peace to those who keep and hold on to them in love for Jesus. Peace I leave with you; my peace I give to you. Not as the world gives do I give to you. Let not your hearts be troubled\, neither let them be afraid” (John 14:27). \n\nLCMS Worship\n\nlcms.org/worship\n\n\nWorship planning resources\n\n\nSubscribe to monthly resources email\n\nFind church near me
URL:https://calendar.lcms.org/event/pentecost-series-c-and-one-year-series/
LOCATION:TX
CATEGORIES:Church Year
ATTACH;FMTTYPE=image/jpeg:https://calendar.lcms.org/wp-content/uploads/2023/05/Pentecost-v1-1200x630-1.jpg
ORGANIZER;CN="LCMS Worship":MAILTO:worship@lcms.org
END:VEVENT
BEGIN:VEVENT
DTSTART;VALUE=DATE:20250608
DTEND;VALUE=DATE:20250611
DTSTAMP:20260420T115212
CREATED:20240628T171730Z
LAST-MODIFIED:20240705T225856Z
UID:10001396-1749340800-1749599999@calendar.lcms.org
SUMMARY:LCMS Iowa District West Convention — 2025
DESCRIPTION:The Lutheran Church—Missouri Synod’s 2025 Iowa District West Convention is scheduled for Sunday\, June 8\, to Tuesday\, June 10\, in Milford\, Iowa\, at Camp Okoboji. \nDistrict conventions\, which are held every three years by each of the Synod’s 35 districts\, take place the year before the triennial LCMS national convention. \nThe schedule includes time for conducting business\, electing officers\, and sharing information. The conventions also offer opportunities for worship\, nurture\, inspiration\, and fellowship. \nPastors\, teachers\, other commissioned ministers\, and lay delegates elected by congregations are required to attend. \nGeneral sessions are open to anyone who wishes to attend as an observer\, and guests are also invited to the worship services. \nLCMS Iowa District West Office \n\nProfile — Iowa District West\n\n\nWeb — idwlcms.org\n\n\nEmail — info@iowadistrictwest.org\n\n\nPhone — 515-576-7666
URL:https://calendar.lcms.org/event/iowa-district-west-convention-2025/
LOCATION:Camp Okoboji: Milford\, Iowa\, 1531 Edgewood Drive\, Milford\, IA\, 51351\, United States
CATEGORIES:Conventions,LCMS District Conventions
ATTACH;FMTTYPE=image/jpeg:https://calendar.lcms.org/wp-content/uploads/2017/06/LCMS-District-Conventions-Featured-Image.jpg
ORGANIZER;CN="LCMS Iowa West District":MAILTO:info@iowadistrictwest.org
GEO:43.365219;-95.174818
X-APPLE-STRUCTURED-LOCATION;VALUE=URI;X-ADDRESS=Camp Okoboji: Milford Iowa 1531 Edgewood Drive Milford IA 51351 United States;X-APPLE-RADIUS=500;X-TITLE=1531 Edgewood Drive:geo:-95.174818,43.365219
END:VEVENT
BEGIN:VEVENT
DTSTART;VALUE=DATE:20250609
DTEND;VALUE=DATE:20250611
DTSTAMP:20260420T115212
CREATED:20240628T172200Z
LAST-MODIFIED:20241018T144356Z
UID:10001397-1749427200-1749599999@calendar.lcms.org
SUMMARY:LCMS South Wisconsin District Convention — 2025
DESCRIPTION:The Lutheran Church—Missouri Synod’s 2025 South Wisconsin District Convention is scheduled for Monday\, June 9\, and Tuesday\, June 10\, in Mequon\, Wis.\, at Concordia University Wisconsin. \nDistrict conventions\, which are held every three years by each of the Synod’s 35 districts\, take place the year before the triennial LCMS national convention. \nThe schedule includes time for conducting business\, electing officers\, and sharing information. The conventions also offer opportunities for worship\, nurture\, inspiration\, and fellowship. \nPastors\, teachers\, other commissioned ministers\, and lay delegates elected by congregations are required to attend. \nGeneral sessions are open to anyone who wishes to attend as an observer\, and guests are also invited to the worship services. \nLCMS South Wisconsin District Office \n\nProfile — South Wisconsin District\n\n\nWeb — swd.lcms.org\n\n\nEmail — swd@swd.lcms.org\n\n\nPhone — 414-464-8100
URL:https://calendar.lcms.org/event/south-wisconsin-district-convention-2025/
LOCATION:Concordia University Wisconsin: Mequon\, Wis.\, 12800 N Lake Shore Drive\, Mequon\, WI\, 53097\, United States
CATEGORIES:Conventions,LCMS District Conventions
ATTACH;FMTTYPE=image/jpeg:https://calendar.lcms.org/wp-content/uploads/2017/06/LCMS-District-Conventions-Featured-Image.jpg
ORGANIZER;CN="LCMS South Wisconsin District":MAILTO:swd@swd.lcms.org
GEO:43.2544619;-87.915778
X-APPLE-STRUCTURED-LOCATION;VALUE=URI;X-ADDRESS=Concordia University Wisconsin: Mequon Wis. 12800 N Lake Shore Drive Mequon WI 53097 United States;X-APPLE-RADIUS=500;X-TITLE=12800 N Lake Shore Drive:geo:-87.915778,43.2544619
END:VEVENT
END:VCALENDAR