BEGIN:VCALENDAR
VERSION:2.0
PRODID:-//LCMS Calendar - ECPv6.15.16//NONSGML v1.0//EN
CALSCALE:GREGORIAN
METHOD:PUBLISH
X-WR-CALNAME:LCMS Calendar
X-ORIGINAL-URL:https://calendar.lcms.org
X-WR-CALDESC:Events for LCMS Calendar
REFRESH-INTERVAL;VALUE=DURATION:PT1H
X-Robots-Tag:noindex
X-PUBLISHED-TTL:PT1H
BEGIN:VTIMEZONE
TZID:America/Chicago
BEGIN:DAYLIGHT
TZOFFSETFROM:-0600
TZOFFSETTO:-0500
TZNAME:CDT
DTSTART:20240310T080000
END:DAYLIGHT
BEGIN:STANDARD
TZOFFSETFROM:-0500
TZOFFSETTO:-0600
TZNAME:CST
DTSTART:20241103T070000
END:STANDARD
BEGIN:DAYLIGHT
TZOFFSETFROM:-0600
TZOFFSETTO:-0500
TZNAME:CDT
DTSTART:20250309T080000
END:DAYLIGHT
BEGIN:STANDARD
TZOFFSETFROM:-0500
TZOFFSETTO:-0600
TZNAME:CST
DTSTART:20251102T070000
END:STANDARD
BEGIN:DAYLIGHT
TZOFFSETFROM:-0600
TZOFFSETTO:-0500
TZNAME:CDT
DTSTART:20260308T080000
END:DAYLIGHT
BEGIN:STANDARD
TZOFFSETFROM:-0500
TZOFFSETTO:-0600
TZNAME:CST
DTSTART:20261101T070000
END:STANDARD
END:VTIMEZONE
BEGIN:VTIMEZONE
TZID:America/Los_Angeles
BEGIN:DAYLIGHT
TZOFFSETFROM:-0800
TZOFFSETTO:-0700
TZNAME:PDT
DTSTART:20240310T100000
END:DAYLIGHT
BEGIN:STANDARD
TZOFFSETFROM:-0700
TZOFFSETTO:-0800
TZNAME:PST
DTSTART:20241103T090000
END:STANDARD
BEGIN:DAYLIGHT
TZOFFSETFROM:-0800
TZOFFSETTO:-0700
TZNAME:PDT
DTSTART:20250309T100000
END:DAYLIGHT
BEGIN:STANDARD
TZOFFSETFROM:-0700
TZOFFSETTO:-0800
TZNAME:PST
DTSTART:20251102T090000
END:STANDARD
BEGIN:DAYLIGHT
TZOFFSETFROM:-0800
TZOFFSETTO:-0700
TZNAME:PDT
DTSTART:20260308T100000
END:DAYLIGHT
BEGIN:STANDARD
TZOFFSETFROM:-0700
TZOFFSETTO:-0800
TZNAME:PST
DTSTART:20261101T090000
END:STANDARD
END:VTIMEZONE
BEGIN:VTIMEZONE
TZID:America/Detroit
BEGIN:DAYLIGHT
TZOFFSETFROM:-0500
TZOFFSETTO:-0400
TZNAME:EDT
DTSTART:20240310T070000
END:DAYLIGHT
BEGIN:STANDARD
TZOFFSETFROM:-0400
TZOFFSETTO:-0500
TZNAME:EST
DTSTART:20241103T060000
END:STANDARD
BEGIN:DAYLIGHT
TZOFFSETFROM:-0500
TZOFFSETTO:-0400
TZNAME:EDT
DTSTART:20250309T070000
END:DAYLIGHT
BEGIN:STANDARD
TZOFFSETFROM:-0400
TZOFFSETTO:-0500
TZNAME:EST
DTSTART:20251102T060000
END:STANDARD
BEGIN:DAYLIGHT
TZOFFSETFROM:-0500
TZOFFSETTO:-0400
TZNAME:EDT
DTSTART:20260308T070000
END:DAYLIGHT
BEGIN:STANDARD
TZOFFSETFROM:-0400
TZOFFSETTO:-0500
TZNAME:EST
DTSTART:20261101T060000
END:STANDARD
END:VTIMEZONE
BEGIN:VEVENT
DTSTART;VALUE=DATE:20251001
DTEND;VALUE=DATE:20251101
DTSTAMP:20260419T220629
CREATED:20250916T194633Z
LAST-MODIFIED:20250916T210231Z
UID:10001469-1759276800-1761955199@calendar.lcms.org
SUMMARY:Church Worker Appreciation Month
DESCRIPTION:Our church workers dedicate themselves\, day in and day out\, to serving their church and school communities. That means it’s always the right time to show them our appreciation. \nTo help the church be intentional in showing that appreciation\, The Lutheran Church—Missouri Synod (LCMS) has set aside the month of October and other special days throughout the year to highlight different kinds of church workers and their service. You are encouraged to join with your brothers and sisters in Christ across the LCMS in using these opportunities to show appreciation to our church workers\, who serve us in a multitude of ways as they preach\, teach and care for God’s people in body and soul. \n\nOct. 12 — Pastor Appreciation\n\n\nOct. 25 — Deaconess\, Director of Family Life Ministry\, Director of Christian Outreach\, and Director of Church Ministries Appreciation\n\n\nApril 26 — Director of Parish Music Appreciation\n\n\nMay 4–8 — Teacher Appreciation\n\n\nJune 26 — Director of Christian Education Appreciation\n\nThe LCMS offers suggestions and resources to show your gratitude and support for church workers. \nView resources \n\n\nLCMS Worker Wellness\n\nlcms.org/worker-wellness\nworkerwellness@lcms.org\n\n  \nSet Apart to Serve — LCMS church work recruitment initiative\n\nlcms.org/set-apart-to-serve\nsetapart2serve@lcms.org
URL:https://calendar.lcms.org/event/church-worker-appreciation-month-2025/
CATEGORIES:Special Events,Special Occasions
ATTACH;FMTTYPE=image/jpeg:https://calendar.lcms.org/wp-content/uploads/2025/09/783633392-sas-septeblast-2025_1440x810-1.jpg
ORGANIZER;CN="The Lutheran Church%E2%80%94Missouri Synod":MAILTO:help@lcms.org
END:VEVENT
BEGIN:VEVENT
DTSTART;VALUE=DATE:20251003
DTEND;VALUE=DATE:20251004
DTSTAMP:20260419T220629
CREATED:20250428T201220Z
LAST-MODIFIED:20250428T201220Z
UID:10001460-1759449600-1759535999@calendar.lcms.org
SUMMARY:2025 Ohio March for Life in Columbus
DESCRIPTION:The 2025 Ohio March for Life will take place in Columbus on October 3. The rally begins at 11:00am and the march at 12:00pm. \nRegister Now \n\n 
URL:https://calendar.lcms.org/event/2025-ohio-march-for-life-in-columbus/
LOCATION:Columbus\, Ohio\, OH\, United States
CATEGORIES:Pro-life events
ATTACH;FMTTYPE=image/jpeg:https://calendar.lcms.org/wp-content/uploads/2023/01/Pro-life-Event-Featured-Image-2.jpg
ORGANIZER;CN="LCMS Life Ministry":MAILTO:lifeministry@lcms.org
GEO:40.4172871;-82.907123
END:VEVENT
BEGIN:VEVENT
DTSTART;VALUE=DATE:20251010
DTEND;VALUE=DATE:20251011
DTSTAMP:20260419T220629
CREATED:20250416T163653Z
LAST-MODIFIED:20250416T164218Z
UID:10001457-1760054400-1760140799@calendar.lcms.org
SUMMARY:2025 North Dakota March for Life in Bismarck
DESCRIPTION:The North Dakota March for Life in Bismarck is Friday\, October 10\, 2025. Join other Lutherans and stand up for the sanctity of life. More information is to come. \n\n\n\n\n\n\nRegister Now
URL:https://calendar.lcms.org/event/2025-north-dakota-march-for-life-in-bismarck/
LOCATION:Bismarck\, North Dakota\, OH\, United States
CATEGORIES:Pro-life events
ATTACH;FMTTYPE=image/jpeg:https://calendar.lcms.org/wp-content/uploads/2023/01/Pro-life-Event-Featured-Image-2.jpg
ORGANIZER;CN="LCMS Life Ministry":MAILTO:lifeministry@lcms.org
GEO:40.4172871;-82.907123
END:VEVENT
BEGIN:VEVENT
DTSTART;VALUE=DATE:20251012
DTEND;VALUE=DATE:20251013
DTSTAMP:20260419T220629
CREATED:20250916T201521Z
LAST-MODIFIED:20250922T202859Z
UID:10001472-1760227200-1760313599@calendar.lcms.org
SUMMARY:Church Worker Appreciation – Pastor
DESCRIPTION:Our church workers dedicate themselves\, day in and day out\, to serving their church and school communities. That means it’s always the right time to show them our appreciation. \nTo help the church be intentional in showing that appreciation\, The Lutheran Church—Missouri Synod (LCMS) has set aside the month of October and other special days throughout the year to highlight different kinds of church workers and their service. You are encouraged to join with your brothers and sisters in Christ across the LCMS in using these opportunities to show appreciation to our church workers\, who serve us in a multitude of ways as they preach\, teach and care for God’s people in body and soul. \n\nOct. 25 — Deaconess\, Director of Family Life Ministry\, Director of Christian Outreach\, and Director of Church Ministries Appreciation\n\n\nApril 26 — Director of Parish Music Appreciation\n\n\nMay 4–8 — Teacher Appreciation\n\n\nJune 26 — Director of Christian Education Appreciation\n\nOn Oct. 12\, we begin our year of church worker appreciation by thanking God for our pastors\, who stand in the stead of Christ as they bring us His gifts of Word and Sacrament. \nThe LCMS offers suggestions and resources to show your gratitude and support for pastors. \nView resources \n\nLCMS Worker Wellness\n\nlcms.org/worker-wellness\nworkerwellness@lcms.org\n\n  \nSet Apart to Serve — LCMS church work recruitment initiative\n\nlcms.org/set-apart-to-serve\n\n\nsetapart2serve@lcms.org
URL:https://calendar.lcms.org/event/church-worker-appreciation-pastor-2025/
CATEGORIES:Featured Events,Special Occasions
ATTACH;FMTTYPE=image/jpeg:https://calendar.lcms.org/wp-content/uploads/2025/09/783633392-sas-septeblast-2025_1440x810-1.jpg
ORGANIZER;CN="The Lutheran Church%E2%80%94Missouri Synod":MAILTO:help@lcms.org
END:VEVENT
BEGIN:VEVENT
DTSTART;VALUE=DATE:20251015
DTEND;VALUE=DATE:20251016
DTSTAMP:20260419T220630
CREATED:20250912T151824Z
LAST-MODIFIED:20250912T151824Z
UID:10001465-1760486400-1760572799@calendar.lcms.org
SUMMARY:Teacher Colloquy Webinar
DESCRIPTION:Do you know an educator who might be interested in teacher colloquy? \nA free Teacher Colloquy Webinar will be held on Wednesday\, Oct. 15\, at 7 p.m. (CDT) to go over the process\, requirements and benefits of becoming rostered as an LCMS Minister of Religion—Commissioned. Teacher colloquy is a great way for educators who attended a non-LCMS college or university to gain robust theological grounding and roster status. \nThe webinar\, brought to you by Set Apart to Serve\, will be hosted by the Rev. Dr. Paul Philp\, executive director of Concordia University Education Network (CUEnet)\, and Wendi Murphy\, CUEnet office operations manager and registrar. \nThe webinar will cover many topics\, such as common questions and myths about colloquy; real colloquy stories; a walk-through of the requirements\, coursework\, timing and financial aid; and the next steps for those who are ready to begin the process. \nInterested teachers can register for the live Zoom webinar at thelc.ms/teacher-colloquy-webinar. Schools might consider scheduling a watch party for staff to attend together. The webinar will be recorded and available for on-demand viewing.
URL:https://calendar.lcms.org/event/teacher-colloquy-webinar/
CATEGORIES:Conferences & Workshops,Special Events
ATTACH;FMTTYPE=image/jpeg:https://calendar.lcms.org/wp-content/uploads/2025/09/LCMS-Teacher-Colloquy-Webinar-Featured.jpg
ORGANIZER;CN="LCMS Set Apart to Serve":MAILTO:setapart2serve@lcms.org
END:VEVENT
BEGIN:VEVENT
DTSTART;VALUE=DATE:20251021
DTEND;VALUE=DATE:20251023
DTSTAMP:20260419T220630
CREATED:20251002T164433Z
LAST-MODIFIED:20251113T200733Z
UID:10001476-1761004800-1761177599@calendar.lcms.org
SUMMARY:FORO: Uruguay
DESCRIPTION:A collaborative model designed to support missionaries through partnership and shared resources\, emphasizing the importance of community involvement in global missions. \nContact \n\njames.sharp@lcms.org
URL:https://calendar.lcms.org/event/foro-uruguay/
CATEGORIES:Conferences & Workshops,FOROs,International Mission,Latin America & Caribbean
ATTACH;FMTTYPE=image/jpeg:https://calendar.lcms.org/wp-content/uploads/2025/10/Masthead-International-Forums-Foros-1440x810-1.jpg
END:VEVENT
BEGIN:VEVENT
DTSTART;VALUE=DATE:20251024
DTEND;VALUE=DATE:20251026
DTSTAMP:20260419T220630
CREATED:20251002T164847Z
LAST-MODIFIED:20251113T200806Z
UID:10001477-1761264000-1761436799@calendar.lcms.org
SUMMARY:FORO: Puerto Rico
DESCRIPTION:The FORO concept is simple and its impact is powerful. The word itself is Spanish for “forum.” LCMS International Mission uses FOROs to facilitate networking\, start conversations\, and focus our resources to make disciples of all nations for generations to come. Missionaries don’t only need funding and volunteers. They need relationships. They need support networks. They need people like you to walk with them\, pray with them\, listen to them\, learn from them and stand with them. FOROs help provide that relationship. \nTwice a year\, missionaries gather with partners — people from churches\, organizations schools. They sit down together\, and they talk. They talk about making disciples\, planting Lutheran churches and about mission work. They talk about what’s happening on the ground. About the needs of the people they serve. About what’s working — and what’s not. The missionaries speak\, and the partners listen. Then\, everyone has a chance to respond. \nContact \n\ncard@lcmsintl.org
URL:https://calendar.lcms.org/event/foro-puerto-rico/
CATEGORIES:Conferences & Workshops,FOROs,International Mission,Latin America & Caribbean
ATTACH;FMTTYPE=image/jpeg:https://calendar.lcms.org/wp-content/uploads/2025/10/Masthead-International-Forums-Foros-1440x810-1.jpg
END:VEVENT
BEGIN:VEVENT
DTSTART;VALUE=DATE:20251025
DTEND;VALUE=DATE:20251026
DTSTAMP:20260419T220630
CREATED:20250916T200241Z
LAST-MODIFIED:20250922T202937Z
UID:10001471-1761350400-1761436799@calendar.lcms.org
SUMMARY:Church Worker Appreciation - Deaconess\, Director of Family Life Ministry\, Director of Christian Outreach\, Director of Church Ministries
DESCRIPTION:Our church workers dedicate themselves\, day in and day out\, to serving their church and school communities. That means it’s always the right time to show them our appreciation. \nTo help the church be intentional in showing that appreciation\, The Lutheran Church—Missouri Synod (LCMS) has set aside the month of October and other special days throughout the year to highlight different kinds of church workers and their service. You are encouraged to join with your brothers and sisters in Christ across the LCMS in using these opportunities to show appreciation to our church workers\, who serve us in a multitude of ways as they preach\, teach and care for God’s people in body and soul. \n\nOct. 12 — Pastor Appreciation\n\n\nApril 26 — Director of Parish Music Appreciation\n\n\nMay 4–8 — Teacher Appreciation\n\n\nJune 26 — Director of Christian Education Appreciation\n\nOn Oct. 25\, we continue our year of church worker appreciation by thanking God for four commissioned (auxiliary) offices that support the work of the Holy Ministry: deaconess\, director of family life\, director of Christian outreach and director of church ministries. \nView resources \n\nLCMS Worker Wellness\n\nlcms.org/worker-wellness\nworkerwellness@lcms.org\n\n  \nSet Apart to Serve — LCMS church work recruitment initiative\n\nlcms.org/set-apart-to-serve\n\n\nsetapart2serve@lcms.org
URL:https://calendar.lcms.org/event/church-worker-appreciation-deaconess-director-of-family-life-ministry-director-of-christian-outreach-director-of-church-ministries-2025/
CATEGORIES:Featured Events,Special Occasions
ATTACH;FMTTYPE=image/jpeg:https://calendar.lcms.org/wp-content/uploads/2025/09/783633392-sas-septeblast-2025_1440x810-1.jpg
ORGANIZER;CN="The Lutheran Church%E2%80%94Missouri Synod":MAILTO:help@lcms.org
END:VEVENT
BEGIN:VEVENT
DTSTART;VALUE=DATE:20251031
DTEND;VALUE=DATE:20251101
DTSTAMP:20260419T220630
CREATED:20240322T211043Z
LAST-MODIFIED:20241216T213516Z
UID:10001358-1761868800-1761955199@calendar.lcms.org
SUMMARY:Reformation Day
DESCRIPTION:Reformation Day is commemorated on Oct. 31 each year. LCMS congregations may hold special services on Oct. 31 and/or on the preceding or following Sunday. \nTo attend a service\, visit locator.lcms.org/church to find a local Lutheran Church—Missouri Synod congregation. Enter your zip code and click “Search” to see a list of area churches\, service times\, and contact information. \nIf you are homebound\, traveling\, or otherwise unable to attend a service in person\, KFUO Radio airs worship services throughout the church year. Visit KFUO.org to view the schedule and listen to services. \nFind church near me \n\nAbout the Protestant Reformation\nMore than 500 years ago\, the Protestant Reformation brought the church’s focus back to God’s free gift of salvation in Jesus Christ. \nOn Oct. 31\, 1517\, Martin Luther posted the 95 Theses — the “Disputation on the Power and Efficacy of Indulgences” — to the church door in a small city called Wittenberg\, Germany. This event ignited the Protestant Reformation\, and thus the Lutheran church officially commemorates this important anniversary on Oct. 31. \nAs you and your congregation prepare to celebrate this year\, you are invited to use a variety of resources that highlight the history\, theology\, and continued effects of the Reformation today. \nThe Reformation was\, first and foremost\, all about the Gospel of Jesus Christ. It was then\, and it still is now. The task of reformation never ends. Every person\, in every generation\, needs to hear the Good News of their Savior from sin and eternal death. \nView Reformation resources \n\nLiturgical color for Reformation Day\nThe altar will be adorned with the festive color of red. \n\nThree-Year Series and One-Year Series\nScripture readings\n\nPsalm 46\n\n\nRevelation 14:6–7\n\n\nRomans 3:19–28\n\n\nJohn 8:31–36 or Matthew 11:12–19\n\nLectionary summary\nThe Son of God Has Set Us Free from Sin and Death by His Grace\n“Wisdom is justified by her deeds” (Matt. 11:19)\, and the true Wisdom of God\, Christ Jesus\, the incarnate Son\, has justified us by His deeds. He prepares His way by the preaching of repentance\, but He has suffered the violence of the Law and voluntarily handed Himself over to violent men\, that we might eat and drink with Him in His Kingdom and “remain in the house forever” (John 8:35). He is “a friend of tax collectors and sinners” (Matt. 11:18–19)\, and He has rescued us by His grace from the slavery of sin and death. By the proclamation of His eternal Gospel “to those who dwell on earth\, to every nation and tribe and language and people” (Rev. 14:6)\, “the righteousness of God has been manifested apart from the law” (Rom. 3:21)\, “that he might be just and the justifier of the one who has faith in Jesus” (Rom. 3:26). And by the hearing of that Gospel of Christ Jesus\, “whom God put forward as a propitiation by his blood\, to be received by faith” (Rom. 3:25)\, “you will know the truth\, and the truth will set you free” (John 8:31–32). \n\nLCMS Worship\n\nlcms.org/worship\n\n\nWorship planning resources\n\n\nSubscribe to monthly resources email\n\nFind church near me
URL:https://calendar.lcms.org/event/reformation-day/2025-10-31/
CATEGORIES:Church Year,Special Occasions
ATTACH;FMTTYPE=image/jpeg:https://calendar.lcms.org/wp-content/uploads/2022/10/Reformation-Day-1200x630-1.jpg
ORGANIZER;CN="The Lutheran Church%E2%80%94Missouri Synod":MAILTO:help@lcms.org
END:VEVENT
BEGIN:VEVENT
DTSTART;VALUE=DATE:20251101
DTEND;VALUE=DATE:20251102
DTSTAMP:20260419T220630
CREATED:20240716T211323Z
LAST-MODIFIED:20240716T212938Z
UID:10001418-1761955200-1762041599@calendar.lcms.org
SUMMARY:All Saints' Day
DESCRIPTION:All Saints’ Day\, which is on Nov. 1 of each year\, will be commemorated in 2025 during Divine Services on Sunday\, Nov. 2. \nTo attend an All Saints’ Day service\, visit locator.lcms.org/church to find a local Lutheran Church—Missouri Synod congregation. Enter your zip code and click “Search” to see a list of area churches\, service times\, and contact information. \nIf you are homebound\, traveling\, or otherwise unable to attend a service in person\, KFUO Radio airs worship services throughout the church year. Visit KFUO.org to view the schedule and listen to services. \nFind church near me \n\nLiturgical color for All Saints’ Day\nWhite\, which is the color of purity and completeness\, will adorn the altar on All Saints’ Day. This color\, used primarily during these Sundays\, assists in bearing the message that “though your sins be as scarlet\, they shall be white as snow.” Christ’s triumph from the grave on Resurrection day is the cause for our rejoicing. His purity before his Father becomes our purity. White reinforces that message of joy. \n\nThree-Year Series C and One-Year Series\nScripture readings\n\nPsalm 149\n\n\nRevelation 7:(2–8) 9–17\n\n\n1 John 3:1–3\n\n\nMatthew 5:1–12\n\nLectionary summary\nSaints Are Blessed in the Eternal Presence of Christ\n“A great multitude … from every nation\, from all tribes and peoples and languages\,” cry out\, “Salvation belongs to our God who sits on the throne” (Rev. 7:9–17). Faith-filled saints from every place and time\, with unified voices\, eternally magnify the Lamb of God. As His beloved children\, we\, too\, “shall see him as he is” (1 John 3:1–3). Joined with the throng of angels and myriad saints\, we shall “serve him day and night in his temple” (Rev. 7:9–17). In our earthly tension vacillating between saint and sinner\, faith and doubt\, sacred and profane\, we earnestly seek Jesus to calm our fears\, comfort our spirits and forgive our sins. The Holy Spirit through faith in Christ propels us forward\, fortifying us in Word and Sacrament\, to our eternal home. In the midst of our constant struggle as believers\, we need to be blessed. And so we are. The poor in spirit\, the meek\, the hungry\, the thirsty\, the merciful\, the pure and the persecuted are all blessed\, and we will most certainly inherit the kingdom of heaven (Matt. 5:1–12). \n\nLCMS Worship\n\nlcms.org/worship\n\n\nWorship planning resources\n\n\nSubscribe to monthly resources email\n\nFind church near me
URL:https://calendar.lcms.org/event/all-saints-day-series-c-and-one-year-series/
CATEGORIES:Church Year
ATTACH;FMTTYPE=image/jpeg:https://calendar.lcms.org/wp-content/uploads/2023/03/Palm-Sunday-Banner-02.jpg
ORGANIZER;CN="The Lutheran Church%E2%80%94Missouri Synod":MAILTO:help@lcms.org
END:VEVENT
BEGIN:VEVENT
DTSTART;VALUE=DATE:20251106
DTEND;VALUE=DATE:20251107
DTSTAMP:20260419T220630
CREATED:20250915T210434Z
LAST-MODIFIED:20250915T210434Z
UID:10001466-1762387200-1762473599@calendar.lcms.org
SUMMARY:2025 Michigan March for Life
DESCRIPTION:Join us in Lansing\, Michigan on Thursday\, November 6 for the Michigan March for Life. The day begins at the Michigan State Capitol in Lansing at 10:00am with a pre-rally concert\, the rally follows at 11:00am and the march begins at 12:00pm. After the march\, there will be a post-march reception at Hope Lutheran Church in DeWitt. Come and join fellow Lutherans and witness to the sanctity of life. \nRegister Now \n 
URL:https://calendar.lcms.org/event/2025-michigan-march-for-life/
LOCATION:Michigan State Capitol\, 100 N. Capitol Ave\, Lansing\, MI\, 48933\, United States
CATEGORIES:Pro-life events
ATTACH;FMTTYPE=image/jpeg:https://calendar.lcms.org/wp-content/uploads/2023/01/Pro-life-Event-Featured-Image-2.jpg
ORGANIZER;CN="LCMS Life Ministry":MAILTO:lifeministry@lcms.org
GEO:42.7336102;-84.5553485
X-APPLE-STRUCTURED-LOCATION;VALUE=URI;X-ADDRESS=Michigan State Capitol 100 N. Capitol Ave Lansing MI 48933 United States;X-APPLE-RADIUS=500;X-TITLE=100 N. Capitol Ave:geo:-84.5553485,42.7336102
END:VEVENT
BEGIN:VEVENT
DTSTART;VALUE=DATE:20251106
DTEND;VALUE=DATE:20251108
DTSTAMP:20260419T220630
CREATED:20230922T183135Z
LAST-MODIFIED:20230922T183456Z
UID:10001271-1762387200-1762559999@calendar.lcms.org
SUMMARY:LCMS Board for International Mission meeting – Nov. 6-7\, 2025
DESCRIPTION:The LCMS Board for International Mission is scheduled to meet on Nov. 6-7\, 2025\, in St. Louis. \nThe Board for International Mission is charged with developing and determining policies in support of mission and ministry in foreign countries for the Office of International Mission.
URL:https://calendar.lcms.org/event/board-for-international-mission-meeting-nov-6-7-2025/
CATEGORIES:Board for International Mission,Meetings
ATTACH;FMTTYPE=image/jpeg:https://calendar.lcms.org/wp-content/uploads/2018/09/Meetings-01-Featured-Blue-1200x600.jpg
ORGANIZER;CN="The Lutheran Church%E2%80%94Missouri Synod":MAILTO:help@lcms.org
END:VEVENT
BEGIN:VEVENT
DTSTART;VALUE=DATE:20251110
DTEND;VALUE=DATE:20251114
DTSTAMP:20260419T220630
CREATED:20240926T200339Z
LAST-MODIFIED:20240926T200339Z
UID:10001435-1762732800-1763078399@calendar.lcms.org
SUMMARY:Council of Presidents - November 2025
DESCRIPTION:The Lutheran Church—Missouri Synod’s Council of Presidents is scheduled to meet on November 10-13\, 2025. \nThe President\, vice-presidents\, and district presidents of the Synod comprise the 42-member Council of Presidents\, which meets four times each year to provide opportunity for mutual counsel regarding the doctrine and administration of the Synod and to edify and support one another in the work that they share\, those responsibilities found throughout the Constitution and Bylaws of the Synod.
URL:https://calendar.lcms.org/event/council-of-presidents-november-2025/
CATEGORIES:Committee Meeting,Meetings
ATTACH;FMTTYPE=image/jpeg:https://calendar.lcms.org/wp-content/uploads/2018/09/Meetings-02-Featured-Blue-1200x600.jpg
ORGANIZER;CN="The Lutheran Church%E2%80%94Missouri Synod":MAILTO:help@lcms.org
END:VEVENT
BEGIN:VEVENT
DTSTART;VALUE=DATE:20251113
DTEND;VALUE=DATE:20251115
DTSTAMP:20260419T220630
CREATED:20251106T223834Z
LAST-MODIFIED:20251118T155726Z
UID:10001491-1762992000-1763164799@calendar.lcms.org
SUMMARY:FORO — Jamaica (Omaha\, Neb.)
DESCRIPTION:LCMS International Mission will host a FORO about mission work in Jamaica on Nov. 13-14\, 2025\, in Omaha\, Neb. \nWhat is a FORO?\nA FORO — Spanish for “forum” — fosters relationships between missionaries serving on behalf of The Lutheran Church—Missouri Synod (LCMS) and mission partners. The meetings facilitate networking\, start conversations\, and focus resources to make disciples of all nations for generations to come. \nWhen do FOROs occur?\nOnce or twice a year\, LCMS missionaries meet with partners — people from churches\, organizations\, schools\, and partner churches — in their mission field. They discuss strategies to make disciples\, address community needs\, emphasize mutual listening\, and encourage shared decision-making. \nWhy are FOROs needed?\nMissionaries don’t only need funding and volunteers. Missionaries need relationships. They need support networks. They need people to walk with them\, pray with them\, listen to them\, learn from them\, and stand with them. FOROs help provide those relationships. \nTo learn more about FOROs\, visit international.lcms.org/foro. \n\nContact\nRev. Ted Krey\nLCMS International Mission\nRegional Director\, Latin America & the Caribbean \nted.krey@lcms.org
URL:https://calendar.lcms.org/event/foro-jamaica-omaha-nebraska-november-2025/
CATEGORIES:Conferences & Workshops,FOROs,International Mission,Latin America & Caribbean
ATTACH;FMTTYPE=image/jpeg:https://calendar.lcms.org/wp-content/uploads/2025/10/Masthead-International-Forums-Foros-1440x810-1.jpg
END:VEVENT
BEGIN:VEVENT
DTSTART;VALUE=DATE:20251113
DTEND;VALUE=DATE:20251115
DTSTAMP:20260419T220630
CREATED:20251106T204151Z
LAST-MODIFIED:20251118T155735Z
UID:10001488-1762992000-1763164799@calendar.lcms.org
SUMMARY:FORO — Chile
DESCRIPTION:LCMS International Mission will host a FORO about mission work in Chile on Nov. 13-14\, 2025. \nWhat is a FORO?\nA FORO — Spanish for “forum” — fosters relationships between missionaries serving on behalf of The Lutheran Church—Missouri Synod (LCMS) and mission partners. The meetings facilitate networking\, start conversations\, and focus resources to make disciples of all nations for generations to come. \nWhen do FOROs occur?\nOnce or twice a year\, LCMS missionaries meet with partners — people from churches\, organizations\, schools\, and partner churches — in their mission field. They discuss strategies to make disciples\, address community needs\, emphasize mutual listening\, and encourage shared decision-making. \nWhy are FOROs needed?\nMissionaries don’t only need funding and volunteers. Missionaries need relationships. They need support networks. They need people to walk with them\, pray with them\, listen to them\, learn from them\, and stand with them. FOROs help provide those relationships. \nTo learn more about FOROs\, visit international.lcms.org/foro. \n\nContact\nRev. James Sharp\, LCMS Missionary \njames.sharp@lcms.org
URL:https://calendar.lcms.org/event/foro-chile-november-2025/
CATEGORIES:Conferences & Workshops,FOROs,International Mission,Latin America & Caribbean
ATTACH;FMTTYPE=image/jpeg:https://calendar.lcms.org/wp-content/uploads/2025/10/Masthead-International-Forums-Foros-1440x810-1.jpg
END:VEVENT
BEGIN:VEVENT
DTSTART;VALUE=DATE:20251113
DTEND;VALUE=DATE:20251115
DTSTAMP:20260419T220630
CREATED:20231023T193056Z
LAST-MODIFIED:20250925T202808Z
UID:10001307-1762992000-1763164799@calendar.lcms.org
SUMMARY:Board for National Mission - November 2025 meeting
DESCRIPTION:The LCMS Board for National Mission is scheduled to meet on Thursday\, November 13\, and on Friday\, November 14\, 2025. \nThe Board for National Mission is charged with developing and determining policies for the coordination of and in support of district ministries which support congregations and schools. \nRead more about the LCMS Board for National Mission.
URL:https://calendar.lcms.org/event/board-for-national-mission-november-2025-meeting/
CATEGORIES:Board for National Mission,Meetings
ATTACH;FMTTYPE=image/jpeg:https://calendar.lcms.org/wp-content/uploads/2018/09/Meetings-03-Featured-Blue-1200x600.jpg
ORGANIZER;CN="The Lutheran Church%E2%80%94Missouri Synod":MAILTO:help@lcms.org
END:VEVENT
END:VCALENDAR