BEGIN:VCALENDAR
VERSION:2.0
PRODID:-//LCMS Calendar - ECPv6.15.16//NONSGML v1.0//EN
CALSCALE:GREGORIAN
METHOD:PUBLISH
X-WR-CALNAME:LCMS Calendar
X-ORIGINAL-URL:https://calendar.lcms.org
X-WR-CALDESC:Events for LCMS Calendar
REFRESH-INTERVAL;VALUE=DURATION:PT1H
X-Robots-Tag:noindex
X-PUBLISHED-TTL:PT1H
BEGIN:VTIMEZONE
TZID:America/Chicago
BEGIN:DAYLIGHT
TZOFFSETFROM:-0600
TZOFFSETTO:-0500
TZNAME:CDT
DTSTART:20250309T080000
END:DAYLIGHT
BEGIN:STANDARD
TZOFFSETFROM:-0500
TZOFFSETTO:-0600
TZNAME:CST
DTSTART:20251102T070000
END:STANDARD
BEGIN:DAYLIGHT
TZOFFSETFROM:-0600
TZOFFSETTO:-0500
TZNAME:CDT
DTSTART:20260308T080000
END:DAYLIGHT
BEGIN:STANDARD
TZOFFSETFROM:-0500
TZOFFSETTO:-0600
TZNAME:CST
DTSTART:20261101T070000
END:STANDARD
BEGIN:DAYLIGHT
TZOFFSETFROM:-0600
TZOFFSETTO:-0500
TZNAME:CDT
DTSTART:20270314T080000
END:DAYLIGHT
BEGIN:STANDARD
TZOFFSETFROM:-0500
TZOFFSETTO:-0600
TZNAME:CST
DTSTART:20271107T070000
END:STANDARD
END:VTIMEZONE
BEGIN:VTIMEZONE
TZID:America/Phoenix
BEGIN:STANDARD
TZOFFSETFROM:-0700
TZOFFSETTO:-0700
TZNAME:MST
DTSTART:20250101T000000
END:STANDARD
END:VTIMEZONE
BEGIN:VTIMEZONE
TZID:America/Detroit
BEGIN:DAYLIGHT
TZOFFSETFROM:-0500
TZOFFSETTO:-0400
TZNAME:EDT
DTSTART:20250309T070000
END:DAYLIGHT
BEGIN:STANDARD
TZOFFSETFROM:-0400
TZOFFSETTO:-0500
TZNAME:EST
DTSTART:20251102T060000
END:STANDARD
BEGIN:DAYLIGHT
TZOFFSETFROM:-0500
TZOFFSETTO:-0400
TZNAME:EDT
DTSTART:20260308T070000
END:DAYLIGHT
BEGIN:STANDARD
TZOFFSETFROM:-0400
TZOFFSETTO:-0500
TZNAME:EST
DTSTART:20261101T060000
END:STANDARD
BEGIN:DAYLIGHT
TZOFFSETFROM:-0500
TZOFFSETTO:-0400
TZNAME:EDT
DTSTART:20270314T070000
END:DAYLIGHT
BEGIN:STANDARD
TZOFFSETFROM:-0400
TZOFFSETTO:-0500
TZNAME:EST
DTSTART:20271107T060000
END:STANDARD
END:VTIMEZONE
BEGIN:VEVENT
DTSTART;VALUE=DATE:20260413
DTEND;VALUE=DATE:20260419
DTSTAMP:20260422T025314
CREATED:20251125T201847Z
LAST-MODIFIED:20251125T213055Z
UID:10001512-1776038400-1776556799@calendar.lcms.org
SUMMARY:FORO — Rwanda
DESCRIPTION:LCMS International Mission will host a FORO about mission work in Rwanda on April 13-18\, 2026. The gathering includes Lutheran Mission in Africa–Synod of a Thousand Hills. \nWhat is a FORO?\nA FORO — Spanish for “forum” — fosters relationships between missionaries serving on behalf of The Lutheran Church—Missouri Synod (LCMS) and mission partners. The meetings facilitate networking\, start conversations and focus resources to make disciples of all nations for generations to come. \nWhen do FOROs occur?\nOnce or twice a year\, LCMS missionaries meet with partners — people from churches\, organizations\, schools and partner churches — in their mission field. They discuss strategies to make disciples and address community needs\, emphasizing mutual listening and shared decision-making. \nWhy are FOROs needed?\nMissionaries don’t only need funding and volunteers. Missionaries need relationships. They need support networks. They need people to walk with them\, pray with them\, listen to them\, learn from them and stand with them. FOROs help provide those relationships. \nTo learn more about FOROs\, visit international.lcms.org/foro. \n\nContact\nRev. Shauen Trump\, Regional Director for Africa\nLCMS International Mission \nshauen.trump@lcms.org
URL:https://calendar.lcms.org/event/foro-rwanda-april-2026/
CATEGORIES:Africa,Conferences & Workshops,FOROs,International Mission
ATTACH;FMTTYPE=image/jpeg:https://calendar.lcms.org/wp-content/uploads/2025/10/Masthead-International-Forums-Foros-1440x810-1.jpg
ORGANIZER;CN="LCMS International Mission %E2%80%94 Africa":MAILTO:mission.teams@lcms.org
END:VEVENT
BEGIN:VEVENT
DTSTART;TZID=America/Phoenix:20260417T000000
DTEND;TZID=America/Phoenix:20260417T235900
DTSTAMP:20260422T025314
CREATED:20260326T212017Z
LAST-MODIFIED:20260330T162603Z
UID:10001546-1776384000-1776470340@calendar.lcms.org
SUMMARY:2026 Colorado March for Life in Denver
DESCRIPTION:The Colorado March for Life will take place on Friday\, April 17\, 2026. The Rally will begin at 11:00 a.m.\, with the March following at noon. Register now to witness to the sanctity of life. \n\n\n\n\n \n\n\n\n\n\n\n\n\n\n \n\n\n\n\n\n\n\n\n\n\n\n\n\n\n\n\n\n\nRegister Now
URL:https://calendar.lcms.org/event/2026-colorado-march-for-life-in-denver/
LOCATION:Colorado State Capitol\, 200 E. Colfax Ave.\, Denver\, CO\, 80203\, United States
CATEGORIES:Pro-life events
ATTACH;FMTTYPE=image/jpeg:https://calendar.lcms.org/wp-content/uploads/2023/01/Pro-life-Event-Featured-Image-2.jpg
ORGANIZER;CN="LCMS Life Ministry":MAILTO:lifeministry@lcms.org
GEO:39.7395186;-104.984796
X-APPLE-STRUCTURED-LOCATION;VALUE=URI;X-ADDRESS=Colorado State Capitol 200 E. Colfax Ave. Denver CO 80203 United States;X-APPLE-RADIUS=500;X-TITLE=200 E. Colfax Ave.:geo:-104.984796,39.7395186
END:VEVENT
BEGIN:VEVENT
DTSTART;TZID=America/Chicago:20260418T090000
DTEND;TZID=America/Chicago:20260418T100000
DTSTAMP:20260422T025314
CREATED:20260224T172827Z
LAST-MODIFIED:20260225T160556Z
UID:10001539-1776502800-1776506400@calendar.lcms.org
SUMMARY:Life on the Field: A Missionary Spouse Perspective
DESCRIPTION:LCMS International Mission will host a webinar titled “Life on the Field: A Missionary Spouse Perspective” from 9 to 10 a.m. Central time on Saturday\, April 18. \n\n\n\nMissionary service is a calling that involves the whole family. For those who may be contemplating missionary service\, there are many important questions that deserve thoughtful\, honest conversation. \n\n\n\nThis Zoom webinar will offer a candid\, behind-the-scenes look at life on the international mission field from the perspective of LCMS missionary spouses. Through a panel discussion with current and formerly deployed spouses\, participants will hear firsthand insights into topics such as safety\, medical care\, housing\, children’s education\, finances and raising a family in another culture.  \n\n\n\nJoin us to learn how God equips and cares for missionary families as they serve around the world. \n\n\n\nCan’t make it live? Register for the webinar\, and you’ll receive a recording of the event to watch at your convenience. Participants who attend live may submit questions during the event. \n\n\n\nPresenters:\n\n\n\n\nDeaconess Clarion Fritsche\, manager of Mobilization and Training\, LCMS Office of International Mission\n\n\n\nRebecca Krey\, missionary spouse\, Santiago\, Dominican Republic\n\n\n\nJennifer Preus\, missionary spouse\, Brasov\, Romania\n\n\n\nKrista Trump\, missionary spouse\, Nairobi\, Kenya\n\n\n\nJustin Logston\, missionary spouse\, Santiago\, Dominican Republic\n\n\n\n\n\n\n\n\n\nRegister\n\n\n\n\n\n\n\n\n\n\n\n\n\n\n\n\nLCMS International Mission\n\n\n\n\ninternational.lcms.org\n\n\n\n\n\n888-843-5267
URL:https://calendar.lcms.org/event/life-on-the-field-a-missionary-spouse-perspective/
CATEGORIES:Webinars
ATTACH;FMTTYPE=image/jpeg:https://calendar.lcms.org/wp-content/uploads/2026/02/LCMS-International-Mission-Webinar-Missionary-Service-1200x630-1.jpg
END:VEVENT
BEGIN:VEVENT
DTSTART;VALUE=DATE:20260422
DTEND;VALUE=DATE:20260423
DTSTAMP:20260422T025314
CREATED:20251211T221022Z
LAST-MODIFIED:20251218T213101Z
UID:10001522-1776816000-1776902399@calendar.lcms.org
SUMMARY:2026 Virginia March for Life in Richmond
DESCRIPTION:The Virginia March for Life is Wednesday\, April 22\, 2026. Register now to witness to the sanctity of life. More details will come. \n  \n\n\n\n\n\n\n\n\nRegister Now \n 
URL:https://calendar.lcms.org/event/2026-virginia-march-for-life-in-richmond/
LOCATION:Richmond\, Virginia\, VA\, United States
CATEGORIES:Pro-life events
ATTACH;FMTTYPE=image/jpeg:https://calendar.lcms.org/wp-content/uploads/2024/03/030124-eml-Arizona-March-for-Life-0009-scaled.jpg
ORGANIZER;CN="LCMS Life Ministry":MAILTO:lifeministry@lcms.org
GEO:40.4172871;-82.907123
END:VEVENT
BEGIN:VEVENT
DTSTART;VALUE=DATE:20260422
DTEND;VALUE=DATE:20260424
DTSTAMP:20260422T025314
CREATED:20251117T043850Z
LAST-MODIFIED:20251118T155757Z
UID:10001493-1776816000-1776988799@calendar.lcms.org
SUMMARY:FORO — Mexico
DESCRIPTION:LCMS International Mission will host a FORO about mission work in Mexico on April 22-23\, 2026\, in Mexico City. \nWhat is a FORO?\nA FORO — Spanish for “forum” — fosters relationships between missionaries serving on behalf of The Lutheran Church—Missouri Synod (LCMS) and mission partners. The meetings facilitate networking\, start conversations\, and focus resources to make disciples of all nations for generations to come. \nWhen do FOROs occur?\nOnce or twice a year\, LCMS missionaries meet with partners — people from churches\, organizations\, schools\, and partner churches — in their mission field. They discuss strategies to make disciples\, address community needs\, emphasize mutual listening\, and encourage shared decision-making. \nWhy are FOROs needed?\nMissionaries don’t only need funding and volunteers. Missionaries need relationships. They need support networks. They need people to walk with them\, pray with them\, listen to them\, learn from them\, and stand with them. FOROs help provide those relationships. \nTo learn more about FOROs\, visit international.lcms.org/foro. \n\nContact\nRev. Dr. Arthur Rickman\, LCMS Missionary \narthur.rickman@lcms.org
URL:https://calendar.lcms.org/event/foro-mexico-city-april-2026/
CATEGORIES:Conferences & Workshops,FOROs,International Mission,Latin America & Caribbean
ATTACH;FMTTYPE=image/jpeg:https://calendar.lcms.org/wp-content/uploads/2025/10/Masthead-International-Forums-Foros-1440x810-1.jpg
ORGANIZER;CN="LCMS International Mission %E2%80%94 Latin America and Caribbean":MAILTO:lcmslac@lcmsintl.org
END:VEVENT
BEGIN:VEVENT
DTSTART;VALUE=DATE:20260423
DTEND;VALUE=DATE:20260430
DTSTAMP:20260422T025314
CREATED:20251125T212105Z
LAST-MODIFIED:20251125T212105Z
UID:10001515-1776902400-1777507199@calendar.lcms.org
SUMMARY:FORO — Spain
DESCRIPTION:LCMS International Mission will host a FORO about mission work in Spain from April 23–29\, 2026\, in Madrid. The gathering includes the Spanish Evangelical Lutheran Church (Iglesia Evangélica Luterana Española). \nWhat is a FORO?\nA FORO — Spanish for “forum” — fosters relationships between missionaries serving on behalf of The Lutheran Church—Missouri Synod (LCMS) and mission partners. The meetings facilitate networking\, start conversations and focus resources to make disciples of all nations for generations to come. \nWhen do FOROs occur?\nOnce or twice a year\, LCMS missionaries meet with partners — people from churches\, organizations\, schools and partner churches — in their mission field. They discuss strategies to make disciples and address community needs\, emphasizing mutual listening and shared decision-making. \nWhy are FOROs needed?\nMissionaries don’t only need funding and volunteers. Missionaries need relationships. They need support networks. They need people to walk with them\, pray with them\, listen to them\, learn from them and stand with them. FOROs help provide those relationships. \nTo learn more about FOROs\, visit international.lcms.org/foro. \n\nContacts\nBenjamin Helge\, LCMS Missionary \nbenjamin.helge@lcms.org
URL:https://calendar.lcms.org/event/foro-spain-april-2026/
CATEGORIES:Conferences & Workshops,Eurasia,FOROs,International Mission
ATTACH;FMTTYPE=image/jpeg:https://calendar.lcms.org/wp-content/uploads/2025/10/Masthead-International-Forums-Foros-1440x810-1.jpg
ORGANIZER;CN="LCMS International Mission %E2%80%94 Eurasia":MAILTO:mission.teams@lcms.org
END:VEVENT
BEGIN:VEVENT
DTSTART;TZID=America/Chicago:20260425T110000
DTEND;TZID=America/Chicago:20260425T130000
DTSTAMP:20260422T025314
CREATED:20260112T221741Z
LAST-MODIFIED:20260112T221741Z
UID:10001528-1777114800-1777122000@calendar.lcms.org
SUMMARY:2026 March on the Arch in St. Louis
DESCRIPTION:The annual March on the Arch is Saturday\, April 25 in St. Louis. \nThere will be sponsor tables\, including LCMS Life Ministry\, with information and resources.  The rally begins at 11:00am at Aloe Plaza (across from Union Station\, 20th and Market Street). \nThe march begins at 12:00pm and ends at the Gateway Arch (the distance is just over a mile). Light refreshments will be provided for participants at the Arch grounds. Join other Lutherans for this event and witness to the sanctity of life. \nInformation on parking garages and metro stations can be found here\, but there is ample street parking as well. We look forward to seeing you there! \n\n\n\n\n\n\nRegister Now
URL:https://calendar.lcms.org/event/2026-march-on-the-arch-in-st-louis/
LOCATION:Aloe Plaza\, St. Louis\, MO\, 20\, S 20th St\,\, St. Louis\, MO\, 63103
CATEGORIES:Pro-life events
ATTACH;FMTTYPE=image/jpeg:https://calendar.lcms.org/wp-content/uploads/2024/03/030124-eml-Arizona-March-for-Life-0009-scaled.jpg
ORGANIZER;CN="LCMS Life Ministry":MAILTO:lifeministry@lcms.org
GEO:38.630045;-90.20832
X-APPLE-STRUCTURED-LOCATION;VALUE=URI;X-ADDRESS=Aloe Plaza St. Louis MO 20 S 20th St St. Louis MO 63103;X-APPLE-RADIUS=500;X-TITLE=20\, S 20th St\,:geo:-90.20832,38.630045
END:VEVENT
BEGIN:VEVENT
DTSTART;VALUE=DATE:20260426
DTEND;VALUE=DATE:20260427
DTSTAMP:20260422T025314
CREATED:20250916T202149Z
LAST-MODIFIED:20250922T190754Z
UID:10001473-1777161600-1777247999@calendar.lcms.org
SUMMARY:Church Worker Appreciation – Director of Parish Music
DESCRIPTION:Our church workers dedicate themselves\, day in and day out\, to serving their church and school communities. That means it’s always the right time to show them our appreciation. \nTo help the church be intentional in showing that appreciation\, The Lutheran Church—Missouri Synod (LCMS) has set aside the month of October and other special days throughout the year to highlight different kinds of church workers and their service. You are encouraged to join with your brothers and sisters in Christ across the LCMS in using these opportunities to show appreciation to our church workers\, who serve us in a multitude of ways as they preach\, teach and care for God’s people in body and soul. \n\nOct. 12 — Pastor Appreciation\n\n\nOct. 25 — Deaconess\, Director of Family Life Ministry\, Director of Christian Outreach\, and Director of Church Ministries Appreciation\n\n\nMay 4–8 — Teacher Appreciation\n\n\nJune 26 — Director of Christian Education Appreciation\n\nOn April 26\, we continue our year of church worker appreciation observances by thanking God for directors of parish music\, one of the seven commissioned (auxiliary) offices that support the work of the Holy Ministry. \nView resources \n\nLCMS Worker Wellness\n\nlcms.org/worker-wellness\nworkerwellness@lcms.org\n\n  \nSet Apart to Serve — LCMS church work recruitment initiative\n\nlcms.org/set-apart-to-serve\n\n\nsetapart2serve@lcms.org
URL:https://calendar.lcms.org/event/church-worker-appreciation-director-of-parish-music-2025/
CATEGORIES:Featured Events,Special Events,Special Occasions
ATTACH;FMTTYPE=image/jpeg:https://calendar.lcms.org/wp-content/uploads/2025/09/783633377-sas-septeblast-2025_1440x810-2.jpg
ORGANIZER;CN="The Lutheran Church%E2%80%94Missouri Synod":MAILTO:help@lcms.org
END:VEVENT
BEGIN:VEVENT
DTSTART;TZID=America/Chicago:20260430T000000
DTEND;TZID=America/Chicago:20260430T235959
DTSTAMP:20260422T025314
CREATED:20260326T211816Z
LAST-MODIFIED:20260330T162455Z
UID:10001545-1777507200-1777593599@calendar.lcms.org
SUMMARY:2026 Midwest March for Life in Jefferson City\, Missouri 
DESCRIPTION:The Midwest March for Life in Jefferson City\, Missouri will take place on Thursday\, April 30\, 2026. The Rally will begin at 10:00 a.m.\, with the March following at 11:30 a.m. Register now to witness to the sanctity of life. \n\n\n\n\n \n\nRegister Now
URL:https://calendar.lcms.org/event/2026-midwest-march-for-life-in-jefferson-city-mo/
LOCATION:Missouri State Capitol\, 201 W Capitol Ave\, Jefferson City\, MO\, 65101\, United States
CATEGORIES:Pro-life events
ATTACH;FMTTYPE=image/jpeg:https://calendar.lcms.org/wp-content/uploads/2023/01/Pro-life-Event-Featured-Image-2.jpg
ORGANIZER;CN="LCMS Life Ministry":MAILTO:lifeministry@lcms.org
GEO:38.5792994;-92.172829
X-APPLE-STRUCTURED-LOCATION;VALUE=URI;X-ADDRESS=Missouri State Capitol 201 W Capitol Ave Jefferson City MO 65101 United States;X-APPLE-RADIUS=500;X-TITLE=201 W Capitol Ave:geo:-92.172829,38.5792994
END:VEVENT
BEGIN:VEVENT
DTSTART;VALUE=DATE:20260430
DTEND;VALUE=DATE:20260502
DTSTAMP:20260422T025314
CREATED:20230922T184030Z
LAST-MODIFIED:20230922T184030Z
UID:10001272-1777507200-1777679999@calendar.lcms.org
SUMMARY:LCMS Board for International Mission meeting – April 30-May 1\, 2026
DESCRIPTION:The LCMS Board for International Mission is scheduled to meet on April 30 and May 1\, 2026\, in St. Louis. \nThe Board for International Mission is charged with developing and determining policies in support of mission and ministry in foreign countries for the Office of International Mission.
URL:https://calendar.lcms.org/event/lcms-board-for-international-mission-meeting-april-30-may-1-2026/
CATEGORIES:Board for International Mission,Meetings
ATTACH;FMTTYPE=image/jpeg:https://calendar.lcms.org/wp-content/uploads/2018/09/Meetings-01-Featured-Blue-1200x600.jpg
ORGANIZER;CN="The Lutheran Church%E2%80%94Missouri Synod":MAILTO:help@lcms.org
END:VEVENT
BEGIN:VEVENT
DTSTART;VALUE=DATE:20260501
DTEND;VALUE=DATE:20260504
DTSTAMP:20260422T025314
CREATED:20251119T175841Z
LAST-MODIFIED:20251119T175841Z
UID:10001502-1777593600-1777852799@calendar.lcms.org
SUMMARY:FORO — Peru
DESCRIPTION:LCMS International Mission will host a FORO about mission work in Peru on May 1-3\, 2026. \nWhat is a FORO?\nA FORO — Spanish for “forum” — fosters relationships between missionaries serving on behalf of The Lutheran Church—Missouri Synod (LCMS) and mission partners. The meetings facilitate networking\, start conversations\, and focus resources to make disciples of all nations for generations to come. \nWhen do FOROs occur?\nOnce or twice a year\, LCMS missionaries meet with partners — people from churches\, organizations\, schools\, and partner churches — in their mission field. They discuss strategies to make disciples\, address community needs\, emphasize mutual listening\, and encourage shared decision-making. \nWhy are FOROs needed?\nMissionaries don’t only need funding and volunteers. Missionaries need relationships. They need support networks. They need people to walk with them\, pray with them\, listen to them\, learn from them\, and stand with them. FOROs help provide those relationships. \nTo learn more about FOROs\, visit international.lcms.org/foro. \n\nContact\nErin Mackenzie\, LCMS Missionary \nerin.mackenzie@lcms.org
URL:https://calendar.lcms.org/event/foro-peru-may-2026/
CATEGORIES:Conferences & Workshops,FOROs,International Mission,Latin America & Caribbean
ATTACH;FMTTYPE=image/jpeg:https://calendar.lcms.org/wp-content/uploads/2025/10/Masthead-International-Forums-Foros-1440x810-1.jpg
ORGANIZER;CN="LCMS International Mission %E2%80%94 Latin America and Caribbean":MAILTO:lcmslac@lcmsintl.org
END:VEVENT
BEGIN:VEVENT
DTSTART;VALUE=DATE:20260504
DTEND;VALUE=DATE:20260509
DTSTAMP:20260422T025314
CREATED:20250916T204316Z
LAST-MODIFIED:20250917T211123Z
UID:10001474-1777852800-1778284799@calendar.lcms.org
SUMMARY:Church Worker Appreciation – Teacher
DESCRIPTION:Our church workers dedicate themselves\, day in and day out\, to serving their church and school communities. That means it’s always the right time to show them our appreciation. \nTo help the church be intentional in showing that appreciation\, The Lutheran Church—Missouri Synod (LCMS) has set aside the month of October and other special days throughout the year to highlight different kinds of church workers and their service. You are encouraged to join with your brothers and sisters in Christ across the LCMS in using these opportunities to show appreciation to our church workers\, who serve us in a multitude of ways as they preach\, teach and care for God’s people in body and soul. \n\nOct. 12 — Pastor Appreciation\n\n\nOct. 25 — Deaconess\, Director of Family Life Ministry\, Director of Christian Outreach\, and Director of Church Ministries Appreciation\n\n\nApril 26 — Director of Parish Music Appreciation\n\n\nJune 26 — Director of Christian Education Appreciation\n\nDuring the week of May 4–8\, we continue our year of church worker appreciation by thanking God for school teachers\, one of the seven commissioned (auxiliary) offices that support the work of the Holy Ministry. \nView resources \n\nLCMS Worker Wellness\n\nlcms.org/worker-wellness\nworkerwellness@lcms.org\n\n  \nSet Apart to Serve — LCMS church work recruitment initiative\n\nlcms.org/set-apart-to-serve\n\n\nsetapart2serve@lcms.org
URL:https://calendar.lcms.org/event/church-worker-appreciation-teacher-2026/
CATEGORIES:Featured Events,Special Events,Special Occasions
ATTACH;FMTTYPE=image/jpeg:https://calendar.lcms.org/wp-content/uploads/2025/09/783633377-sas-septeblast-2025_1440x810-2.jpg
ORGANIZER;CN="The Lutheran Church%E2%80%94Missouri Synod":MAILTO:help@lcms.org
END:VEVENT
BEGIN:VEVENT
DTSTART;TZID=America/Chicago:20260507T080000
DTEND;TZID=America/Chicago:20260508T170000
DTSTAMP:20260422T025314
CREATED:20231023T194107Z
LAST-MODIFIED:20231023T194107Z
UID:10001309-1778140800-1778259600@calendar.lcms.org
SUMMARY:Board for National Mission - May 2026 meeting
DESCRIPTION:The LCMS Board for National Mission is scheduled to meet on Thursday\, May 7\, and on Friday\, May 8\, 2026. \nThe Board for National Mission is charged with developing and determining policies for the coordination of and in support of district ministries which support congregations and schools. \nRead more about the LCMS Board for National Mission.
URL:https://calendar.lcms.org/event/board-for-national-mission-may-2026-meeting/
CATEGORIES:Board for National Mission,Meetings
ATTACH;FMTTYPE=image/jpeg:https://calendar.lcms.org/wp-content/uploads/2018/09/Meetings-03-Featured-Blue-1200x600.jpg
ORGANIZER;CN="The Lutheran Church%E2%80%94Missouri Synod":MAILTO:help@lcms.org
END:VEVENT
BEGIN:VEVENT
DTSTART;VALUE=DATE:20260516
DTEND;VALUE=DATE:20260517
DTSTAMP:20260422T025314
CREATED:20260114T180545Z
LAST-MODIFIED:20260114T181753Z
UID:10001529-1778889600-1778975999@calendar.lcms.org
SUMMARY:Armed Forces Day - 2026
DESCRIPTION:Armed Forces Day is on Saturday\, May 16\, 2026\, and congregations of The Lutheran Church—Missouri Synod may commemorate the holiday during weekend worship services. \nThe LCMS Ministry to the Armed Forces encourages congregations to give thanks to God for our nation’s military veterans\, service personnel\, chaplains and families who have faithfully answered the call to serve. \nLCMS congregations may plan their commemorations with the help of free resources\, including: \n\nIntroduction letter\n\n\nSermon by Chaplain (Major) Bobby Niemtschk\, U. S. Army\n\n\nBulletin inserts: General (Color)\n\n\nBulletin inserts: General (Black-and-White)\n\n\nBulletin inserts: Responsive Prayer and Ministry-By-Mail\n\n\nOther 2026 celebrations\n\nMemorial Day is Monday\, May 25\, and may be commemorated on Sunday\, May 24.\n\n\nIndependence Day is Saturday\, July 4\, and may be commemorated on Sunday\, July 5.\n\n\nVeterans Day is Wednesday\, Nov. 11\, and may be commemorated the preceding or following weekend.\n\n\nAny Saturday and/or Sunday of your choice.\n\nFor more information and resources\, visit lcms.org/armedforces.
URL:https://calendar.lcms.org/event/armed-forces-day-2026/
CATEGORIES:Featured Events,Special Events,Special Occasions
ATTACH;FMTTYPE=image/jpeg:https://calendar.lcms.org/wp-content/uploads/2024/01/Armed-Forces-Sunday-2024-1200x630-1.jpg
ORGANIZER;CN="The Lutheran Church%E2%80%94Missouri Synod":MAILTO:help@lcms.org
END:VEVENT
END:VCALENDAR