BEGIN:VCALENDAR
VERSION:2.0
PRODID:-//LCMS Calendar - ECPv6.15.16//NONSGML v1.0//EN
CALSCALE:GREGORIAN
METHOD:PUBLISH
X-WR-CALNAME:LCMS Calendar
X-ORIGINAL-URL:https://calendar.lcms.org
X-WR-CALDESC:Events for LCMS Calendar
REFRESH-INTERVAL;VALUE=DURATION:PT1H
X-Robots-Tag:noindex
X-PUBLISHED-TTL:PT1H
BEGIN:VTIMEZONE
TZID:America/Chicago
BEGIN:DAYLIGHT
TZOFFSETFROM:-0600
TZOFFSETTO:-0500
TZNAME:CDT
DTSTART:20250309T080000
END:DAYLIGHT
BEGIN:STANDARD
TZOFFSETFROM:-0500
TZOFFSETTO:-0600
TZNAME:CST
DTSTART:20251102T070000
END:STANDARD
BEGIN:DAYLIGHT
TZOFFSETFROM:-0600
TZOFFSETTO:-0500
TZNAME:CDT
DTSTART:20260308T080000
END:DAYLIGHT
BEGIN:STANDARD
TZOFFSETFROM:-0500
TZOFFSETTO:-0600
TZNAME:CST
DTSTART:20261101T070000
END:STANDARD
BEGIN:DAYLIGHT
TZOFFSETFROM:-0600
TZOFFSETTO:-0500
TZNAME:CDT
DTSTART:20270314T080000
END:DAYLIGHT
BEGIN:STANDARD
TZOFFSETFROM:-0500
TZOFFSETTO:-0600
TZNAME:CST
DTSTART:20271107T070000
END:STANDARD
END:VTIMEZONE
BEGIN:VTIMEZONE
TZID:America/Indiana/Indianapolis
BEGIN:DAYLIGHT
TZOFFSETFROM:-0500
TZOFFSETTO:-0400
TZNAME:EDT
DTSTART:20250309T070000
END:DAYLIGHT
BEGIN:STANDARD
TZOFFSETFROM:-0400
TZOFFSETTO:-0500
TZNAME:EST
DTSTART:20251102T060000
END:STANDARD
BEGIN:DAYLIGHT
TZOFFSETFROM:-0500
TZOFFSETTO:-0400
TZNAME:EDT
DTSTART:20260308T070000
END:DAYLIGHT
BEGIN:STANDARD
TZOFFSETFROM:-0400
TZOFFSETTO:-0500
TZNAME:EST
DTSTART:20261101T060000
END:STANDARD
BEGIN:DAYLIGHT
TZOFFSETFROM:-0500
TZOFFSETTO:-0400
TZNAME:EDT
DTSTART:20270314T070000
END:DAYLIGHT
BEGIN:STANDARD
TZOFFSETFROM:-0400
TZOFFSETTO:-0500
TZNAME:EST
DTSTART:20271107T060000
END:STANDARD
END:VTIMEZONE
BEGIN:VEVENT
DTSTART;TZID=America/Chicago:20260504T130000
DTEND;TZID=America/Chicago:20260504T163000
DTSTAMP:20260422T171330
CREATED:20260422T204434Z
LAST-MODIFIED:20260422T210904Z
UID:10001548-1777899600-1777912200@calendar.lcms.org
SUMMARY:'All Nations Sing' workshop
DESCRIPTION:LCMS All Nations Ministry is hosting an “All Nations Sing!” workshop on Monday\, May 4\, from 1 p.m. to 4:30 p.m. at Concordia Seminary\, St. Louis.  \n\n\n\nWith an emphasis on music sung in English\, Chinese\, and Spanish\, this event is a pre‑convention workshop of the Multiethnic Symposium of Concordia Seminary\, St. Louis. It’s also a celebration of 90 years of LCMS Chinese ministry and 100 years of Hispanic Ministry in the United States in 2026. \n\n\n\n\nThe workshop is designed to help people expand their repertoire of beloved and useful hymns and songs from different languages and heritages.  \n\n\n\nEvery week\, LCMS churches across the United States gather for the Divine Service in a wide range of languages — English\, Spanish\, Amharic\, Nuer\, Oromo\, Chinese\, Korean\, Hmong\, French Creole\, Arabic\, Vietnamese\, Tamil and more. \n\n\n\nExplore beloved musical repertoire from these diverse ministries. Presentations provide both musical insight and practical guidance for integrating this repertoire into congregational life\, worship\, and outreach. \n\n\n\nParticipants are encouraged to bring their instruments and join an interactive music lab\, where the emphasis is on singing\, playing\, and arranging music together. \n\n\n\nSchedule\n\n\n\n\nDiscover from 1:30-3 p.m. — Hear introductions to other attendees and to a variety of Spanish and Chinese “psalms\, hymns\, and spiritual songs” (Col 3:16). This session also features presentations/discussions about various strategies for making music as churches of many languages and cultures.\n\n\n\n\n\nMusic Lab from 3-4:30 p.m. — Attend small and large group rehearsals for those who are helping lead music during the Tuesday evening Festival of Nations and Hymn Festival of the Multiethnic Symposium. Not one of those performers? Use this time to listen\, sing along\, ask questions\, and share ideas.
URL:https://calendar.lcms.org/event/all-nations-sing-workshop/
LOCATION:Concordia Seminary\, St. Louis\, 801 Seminary Place\, St. Louis\, MO\, 63105\, United States
CATEGORIES:Conferences & Workshops
GEO:38.6381561;-90.3122232
X-APPLE-STRUCTURED-LOCATION;VALUE=URI;X-ADDRESS=Concordia Seminary St. Louis 801 Seminary Place St. Louis MO 63105 United States;X-APPLE-RADIUS=500;X-TITLE=801 Seminary Place:geo:-90.3122232,38.6381561
END:VEVENT
BEGIN:VEVENT
DTSTART;TZID=America/Chicago:20260507T080000
DTEND;TZID=America/Chicago:20260508T170000
DTSTAMP:20260422T171330
CREATED:20231023T194107Z
LAST-MODIFIED:20231023T194107Z
UID:10001309-1778140800-1778259600@calendar.lcms.org
SUMMARY:Board for National Mission - May 2026 meeting
DESCRIPTION:The LCMS Board for National Mission is scheduled to meet on Thursday\, May 7\, and on Friday\, May 8\, 2026. \nThe Board for National Mission is charged with developing and determining policies for the coordination of and in support of district ministries which support congregations and schools. \nRead more about the LCMS Board for National Mission.
URL:https://calendar.lcms.org/event/board-for-national-mission-may-2026-meeting/
CATEGORIES:Board for National Mission,Meetings
ATTACH;FMTTYPE=image/jpeg:https://calendar.lcms.org/wp-content/uploads/2018/09/Meetings-03-Featured-Blue-1200x600.jpg
ORGANIZER;CN="The Lutheran Church%E2%80%94Missouri Synod":MAILTO:help@lcms.org
END:VEVENT
BEGIN:VEVENT
DTSTART;VALUE=DATE:20260515
DTEND;VALUE=DATE:20260518
DTSTAMP:20260422T171330
CREATED:20251119T201801Z
LAST-MODIFIED:20251119T201801Z
UID:10001508-1778803200-1779062399@calendar.lcms.org
SUMMARY:FORO — Uruguay
DESCRIPTION:LCMS International Mission will host a FORO about mission work in Uruguay on May 15-17\, 2026. \nWhat is a FORO?\nA FORO — Spanish for “forum” — fosters relationships between missionaries serving on behalf of The Lutheran Church—Missouri Synod (LCMS) and mission partners. The meetings facilitate networking\, start conversations\, and focus resources to make disciples of all nations for generations to come. \nWhen do FOROs occur?\nOnce or twice a year\, LCMS missionaries meet with partners — people from churches\, organizations\, schools\, and partner churches — in their mission field. They discuss strategies to make disciples\, address community needs\, emphasize mutual listening\, and encourage shared decision-making. \nWhy are FOROs needed?\nMissionaries don’t only need funding and volunteers. Missionaries need relationships. They need support networks. They need people to walk with them\, pray with them\, listen to them\, learn from them\, and stand with them. FOROs help provide those relationships. \nTo learn more about FOROs\, visit international.lcms.org/foro. \n\nContact\nRev. James Sharp\, LCMS Missionary \njames.sharp@lcms.org
URL:https://calendar.lcms.org/event/foro-uruguay-may-2026/
CATEGORIES:Conferences & Workshops,FOROs,International Mission,Latin America & Caribbean
ATTACH;FMTTYPE=image/jpeg:https://calendar.lcms.org/wp-content/uploads/2025/10/Masthead-International-Forums-Foros-1440x810-1.jpg
END:VEVENT
BEGIN:VEVENT
DTSTART;VALUE=DATE:20260516
DTEND;VALUE=DATE:20260517
DTSTAMP:20260422T171330
CREATED:20260114T180545Z
LAST-MODIFIED:20260114T181753Z
UID:10001529-1778889600-1778975999@calendar.lcms.org
SUMMARY:Armed Forces Day - 2026
DESCRIPTION:Armed Forces Day is on Saturday\, May 16\, 2026\, and congregations of The Lutheran Church—Missouri Synod may commemorate the holiday during weekend worship services. \nThe LCMS Ministry to the Armed Forces encourages congregations to give thanks to God for our nation’s military veterans\, service personnel\, chaplains and families who have faithfully answered the call to serve. \nLCMS congregations may plan their commemorations with the help of free resources\, including: \n\nIntroduction letter\n\n\nSermon by Chaplain (Major) Bobby Niemtschk\, U. S. Army\n\n\nBulletin inserts: General (Color)\n\n\nBulletin inserts: General (Black-and-White)\n\n\nBulletin inserts: Responsive Prayer and Ministry-By-Mail\n\n\nOther 2026 celebrations\n\nMemorial Day is Monday\, May 25\, and may be commemorated on Sunday\, May 24.\n\n\nIndependence Day is Saturday\, July 4\, and may be commemorated on Sunday\, July 5.\n\n\nVeterans Day is Wednesday\, Nov. 11\, and may be commemorated the preceding or following weekend.\n\n\nAny Saturday and/or Sunday of your choice.\n\nFor more information and resources\, visit lcms.org/armedforces.
URL:https://calendar.lcms.org/event/armed-forces-day-2026/
CATEGORIES:Featured Events,Special Events,Special Occasions
ATTACH;FMTTYPE=image/jpeg:https://calendar.lcms.org/wp-content/uploads/2024/01/Armed-Forces-Sunday-2024-1200x630-1.jpg
ORGANIZER;CN="The Lutheran Church%E2%80%94Missouri Synod":MAILTO:help@lcms.org
END:VEVENT
BEGIN:VEVENT
DTSTART;VALUE=DATE:20260522
DTEND;VALUE=DATE:20260524
DTSTAMP:20260422T171330
CREATED:20231020T194642Z
LAST-MODIFIED:20240703T195310Z
UID:10001300-1779408000-1779580799@calendar.lcms.org
SUMMARY:LCMS Board of Directors - May 2026 meeting
DESCRIPTION:The Lutheran Church—Missouri Synod’s Board of Directors is scheduled to meet on May. 22-23\, 2026\, in St. Louis. \nThe Board of Directors is the legal representative of the LCMS\, and it is the custodian of all the property of the Synod — directly or by its delegation of such authority to an agency of the Synod. \nThe BOD exercises supervision over all the property and business affairs of the Synod\, except in those areas where it has delegated such authority to an agency of the Synod or where the voting members of the Synod\, through the adoption of bylaws or by other convention action\, have assigned specific areas of responsibility to separate corporate or trust entities. \nIn such circumstances\, the BOD retains general oversight responsibility as defined in Synod Bylaws.
URL:https://calendar.lcms.org/event/lcms-board-of-directors-may-2026-meeting/
CATEGORIES:LCMS Board of Directors,Meetings
ATTACH;FMTTYPE=image/jpeg:https://calendar.lcms.org/wp-content/uploads/2018/09/Meetings-02-Featured-Blue-1200x600.jpg
ORGANIZER;CN="LCMS Board of Directors":MAILTO:bod@lcms.org
END:VEVENT
BEGIN:VEVENT
DTSTART;VALUE=DATE:20260531
DTEND;VALUE=DATE:20260601
DTSTAMP:20260422T171330
CREATED:20260127T235229Z
LAST-MODIFIED:20260127T235229Z
UID:10001531-1780185600-1780271999@calendar.lcms.org
SUMMARY:Trinity Sunday
DESCRIPTION:Trinity Sunday will be commemorated on Sunday\, May 31\, 2026\, as the Church continues to confess the confident truth that the Triune God — Father\, Son\, and Holy Spirit — has given himself for our salvation. \nTo attend a Trinity Sunday service\, visit locator.lcms.org/church to find a local Lutheran Church—Missouri Synod congregation. Enter your zip code and click “Search” to see a list of area churches\, service times\, and contact information. \nIf you are homebound\, traveling\, or otherwise unable to attend a service in person\, KFUO Radio airs worship services throughout the church year. Visit KFUO.org to view the schedule and listen to services. \nFind church near me \n\nConfessing the Holy Trinity\nThe Athanasian Creed\, which was written by an anonymous author in the fifth century\, is the Church’s confession of the Holy Trinity. On Trinity Sunday\, the Church proclaims the Christian faith through the words of the Athanasian Creed. \n“The Athanasian Creed declares that its teachings concerning the Holy Trinity and our Lord’s incarnation are “the catholic faith.” In other words\, this is what the true Church of all times and all places has confessed. More than fifteen centuries later\, the Church continues to confess this truth\, confident that the triune God\, Father\, Son\, and Holy Spirit\, has given Himself for our salvation.” \n\nThe Athanasian Creed — Text (Lutheran Service Book p. 319)\n\n\nThe Athanasian Creed — Spoken responsive version\n\n\nThe Athanasian Creed — Sung version\n\n\nThe Athanasian Creed — Sung responsive version\n\n\nThe Athanasian Creed — With hymn verses\n\nSource: This translation of the Athanasian Creed (Quincunque Vult) is from Lutheran Service Book. Copyright © 2006 Concordia Publishing House. Used by permission. Distributed by the LCMS Worship for congregational and school use and streaming only. Commercial reproduction or reproduction for sale of this work in part or in whole without the written permission of the copyright holder is prohibited. \n\nLiturgical colors for Trinity Sunday\nThe altar will be adorned with white\, which is the color of purity and completeness. This color assists in bearing the message that “though your sins be as scarlet\, they shall be white as snow.” Christ’s triumph from the grave on Resurrection Day is the cause for our rejoicing. His purity before his Father becomes our purity. White reinforces that message of joy. \n\nThree-Year Series A\nScripture readings\n\nGen. 1:1–2:4a\n\n\nPsalm 8\n\n\nActs 2:14a\, 22–36\n\n\nMatt. 28:16–20\n\nLectionary summary\nThe Holy Triune God Recreates Us in the Image and Likeness of Christ Jesus\nThe holy Triune God “created the heavens and the earth\,” and “behold\, it was very good” (Gen. 1:1\, 31). However\, after Adam and Eve fell into sin and plunged God’s good creation into decay and death\, the Son of God would be “delivered up according to the definite plan and foreknowledge of God” to be “crucified and killed by the hands of lawless men” (Acts 2:23). As Jesus “received from the Father the promise of the Holy Spirit” (Acts 2:33)\, He also raises up all the baptized and pours out the Spirit upon them through the preaching of His Gospel. He sends out His apostles to “make disciples of all nations” by “baptizing them in the name of the Father and of the Son and of the Holy Spirit\,” and “teaching them to observe all that [He has] commanded” (Matt. 28:19–20). Through such baptizing and teaching — Gospel and Sacraments — the holy Triune God recreates us in the image and likeness of His incarnate Son\, Jesus\, the Christ\, and behold\, it is “very good” (Gen. 1:31). \n\nOne-Year Series\nScripture readings\n\nIsaiah 6:1–7\n\n\nPsalm 29\n\n\nRomans 11:33–36\n\n\nJohn 3:1–15 (16–17)\n\nLectionary summary\nThe Holy Trinity Reveals Himself to Sinners\nWhen Isaiah beheld the glory of the Lord\, he cried out “Woe is me!” For the sinner cannot stand in the presence of a holy God and live (Is. 6:1–7). But God the Father lifted up His Son Jesus for us on the cross\, that whoever believes in Him should not perish but have eternal life. This eternal life of Christ is given us according to the Holy Spirit’s good pleasure in Baptism. “Unless one is born [again] of water and the Spirit\, he cannot enter the kingdom of God” (John 3:5). To sinners in fear of death\, the messengers of God place on our lips the living body and blood of Christ and speak His words of absolution\, “Your guilt is taken away\, and your sin atoned for” (Is. 6:7). Having received forgiveness and life from the Father through the Son by the Holy Spirit\, we join with the angels in praising the blessed Trinity\, “Holy\, holy\, holy is the LORD of hosts!” (Is. 6:3). “For from Him and through Him and to Him are all things. To Him be glory forever. Amen” (Rom. 11:33–36). \n\nLCMS Worship\n\nlcms.org/worship\n\n\nWorship planning resources\n\n\nSubscribe to monthly resources email\n\nFind church near me
URL:https://calendar.lcms.org/event/trinity-sunday-series-a-and-one-year-series/
CATEGORIES:Church Year
ATTACH;FMTTYPE=image/jpeg:https://calendar.lcms.org/wp-content/uploads/2023/05/Trinity-v1-1200x630-1.jpg
ORGANIZER;CN="LCMS Worship":MAILTO:worship@lcms.org
END:VEVENT
BEGIN:VEVENT
DTSTART;TZID=America/Chicago:20260604T000000
DTEND;TZID=America/Chicago:20260605T235959
DTSTAMP:20260422T171330
CREATED:20260305T204325Z
LAST-MODIFIED:20260311T222154Z
UID:10001542-1780531200-1780703999@calendar.lcms.org
SUMMARY:LCMS U Campus Ministry Staff Conference - 2026
DESCRIPTION:The LCMS U Campus Ministry Staff Conference will be held Thursday\, June 4\, through Friday\, June 5\, 2026\, in Lawrence\, Kan. \n\n\n\nUnder the theme “From Generation to Generation\,” the conference will feature plenary presentations\, breakout sessions and roundtable discussions. \n\n\n\nThis conference is for pastors\, DCEs\, deaconesses and others who are leading campus ministries in the LCMS. Its purpose is to: \n\n\n\n\nFacilitate networking among campus ministry leaders;\n\n\n\nFacilitate sharing of ideas; and\n\n\n\nProvide theological education and discussion\, including plenary presentations\, breakout sessions and a panel discussion.\n\n\n\n\nRegistration is free. Attendees will receive a complimentary single-occupancy hotel room on June 4 on a first-come\, first-served basis. Lunch and dinner on June 4 plus lunch on June 5 are also included at no charge. \n\n\n\nMore information\, including speaker and session information\, will be available once finalized. \n\n\n\n\n\n\n\n\nView conference schedule\n\n\n\n\n\n\n\n\n\nRegister online
URL:https://calendar.lcms.org/event/lcms-u-campus-ministry-staff-conference-2026/
CATEGORIES:Conferences & Workshops,Featured Events
ATTACH;FMTTYPE=image/jpeg:https://calendar.lcms.org/wp-content/uploads/2026/03/LCMS-U-Campus-Ministry-1200x630-1.jpg
ORGANIZER;CN="LCMS Campus Ministry":MAILTO:lcmsu@lcms.org
END:VEVENT
BEGIN:VEVENT
DTSTART;TZID=America/Chicago:20260613T000000
DTEND;TZID=America/Chicago:20260615T235959
DTSTAMP:20260422T171330
CREATED:20260303T220424Z
LAST-MODIFIED:20260310T213515Z
UID:10001541-1781308800-1781567999@calendar.lcms.org
SUMMARY:LCMS Pastoral Formation Committee Listening Sessions — West-Southwest Region
DESCRIPTION:The Pastoral Formation Committee (PFC) is excited to be hosting Listening Sessions in The Lutheran Church—Missouri Synod (LCMS) West-Southwest Region on June 13 and June 15. Our hope is to engage in a fruitful discussion about how the LCMS is forming faithful pastors to meet the current and future demands of the holy ministry. \n\n\n\nThe panel will include the two seminary presidents — the Rev. Dr. Thomas Egger (St. Louis) and the Rev. Dr. Jon Bruss (Fort Wayne) — along with the Rev. Dan Galchutt\, LCMS interim chief mission officer\, and the Rev. Dr. James Baneck\, executive director of LCMS Pastoral Education. \n\n\n\nWe are hoping for a healthy conversation as we answer questions and share insights and information. To that end\, we are grateful to you for sharing information about the session with your congregation. District staff\, pastors\, commissioned workers and laity are invited to attend. \n\n\n\nSchedule\n\n\n\nLCMS West-Southwest Region \n\n\n\n\nSaturday\, June 13\, 9 a.m.–12 p.m. — Shepherd of the Desert Lutheran Church\, Scottsdale\, Ariz.\n\n\n\n\n\nMonday\, June 15\, 9:30 a.m.–12:30 p.m. — Christ the King Lutheran Church\, Kingwood\, Texas\n\n\n\n\nBulletin Insert\n\n\n\n\nLCMS West-Southwest Region — June 13 and June 15\n\n\n\n\nBulletin Blurb\n\n\n\nShare in your Sunday Bulletin: \n\n\n\nHave questions about how the LCMS is forming faithful pastors to meet the current and future demands of the holy ministry? Come and talk to the LCMS Pastoral Formation Committee\, which includes the two seminary presidents\, at the Listening Session hosted at [Congregation] on [Day\, Date\, Time]. \n\n\n\nSocial Media\n\n\n\nShare this graphic and the below caption on your congregation’s social media: \n\n\n\n\nThe LCMS Pastoral Formation Committee will soon hold two Listening Sessions in the LCMS [Region]\, sharing information and insights about forming faithful pastors to meet the present and future needs of the LCMS. \n\n\n\nBring your questions and join the discussion with both seminary presidents — the Rev. Dr. Jon Bruss (Fort Wayne) and the Rev. Dr. Thomas Egger (St. Louis) — along with the Rev. Dan Galchutt\, LCMS interim chief mission officer\, and the Rev. Dr. James Baneck\, LCMS executive director of Pastoral Education. We’re looking forward to a fruitful discussion! \n\n\n\nThe Listening Sessions will take place: \n\n\n\n[List the relevant information from above on the session(s) nearest you] \n\n\n\n\n\nDownload graphic\n\n\n\n\n\n\n\n\nPastoral Formation Listening Sessions\n\n\n\nThe LCMS Pastoral Formation Committee will be hosting Listening Sessions in all five LCMS Regions. The East-Southeast Region sessions will be March 26 and 27. Dates and details for listening sessions in the LCMS Central\, Great Plains and Great Lakes Regions are coming soon. \n\n\n\n\nView schedule
URL:https://calendar.lcms.org/event/pastoral-formation-committee-listening-sessions-west-southwest-region/
CATEGORIES:Conferences & Workshops,Featured Events,Pastoral Formation Listening Sessions
ATTACH;FMTTYPE=image/jpeg:https://calendar.lcms.org/wp-content/uploads/2026/03/LCMS-Pastoral-Formation-Listening-Sessions-1200x630-1.jpg
END:VEVENT
BEGIN:VEVENT
DTSTART;VALUE=DATE:20260614
DTEND;VALUE=DATE:20260620
DTSTAMP:20260422T171330
CREATED:20251104T231820Z
LAST-MODIFIED:20251111T043302Z
UID:10001490-1781395200-1781913599@calendar.lcms.org
SUMMARY:YouthLead Servant Event — June 2026
DESCRIPTION:LCMS Youth Ministry will host its inaugural YouthLead Servant Event from Sunday\, June 14\, to Friday\, June 19\, 2026 at Camp Lutherhaven in Albion\, Ind. \nThe gathering blends a week-long servant event and our YouthLead training. Part of each day will serve the Burmese Mission Outreach’s Party in the Park\, which shares Christ’s love through fun and fellowship with Burmese refugees in Fort Wayne\, Ind. \nThe remainder of each day will be for large- and small-group time to cultivate Christian leadership skills\, including communication development\, writing and leading a devotion\, and more. \nWho can attend Youthlead?\nAny high school youth who is an active member of an LCMS congregation and desires to be a leader along with adults who desire to mentor young leaders. \nHow much does it cost?\nRegistration is $300\, which includes food and housing during the training\, supplies\, and a T-shirt. Some of the cost of this training is graciously provided by a grant from the Lutheran Women’s Missionary League. \nParticipants will have to provide their own transportation to and from Camp Lutherhaven. \nIf you would like to bring a group of more than four youth and two adults\, please contact julianna.shults@lcms.org before you register. \nWhat are the accommodations?\nHousing will be in Camp Lutherhaven’s Daniel Retreat Center with men and women staying on separate sides of the cabin. \nParticipants should bring towels\, sleeping bags\, pillows\, and other bedding as everyone will be staying on bunk beds. \nMeals and snacks will be provided through Camp Lutherhaven and Burmese Mission Outreach. \n\nDownload flyer \nRegister \n\nLCMS Youth Ministry\n\nlcms.org/youth\n\n\nyouth.ministry@lcms.org\n\n\n888-843-5267\n\n\nfacebook.com/LCMSyouth\n\n\nfacebook.com/lcmsgathering\n\n\ntwitter.com/LCMSyouth
URL:https://calendar.lcms.org/event/youthlead-servant-event-june-2026/
LOCATION:Camp Lutheranhaven: Albion\, Ind.\, 1596 S 150 W\, Albion\, IN\, 46701\, United States
CATEGORIES:Conferences & Workshops,Featured Events,Youth Ministry
ATTACH;FMTTYPE=image/jpeg:https://calendar.lcms.org/wp-content/uploads/2023/10/youthlead-featured-image.jpg
ORGANIZER;CN="LCMS Youth Ministry":MAILTO:youth.ministry@lcms.org
END:VEVENT
BEGIN:VEVENT
DTSTART;VALUE=DATE:20260620
DTEND;VALUE=DATE:20260622
DTSTAMP:20260422T171331
CREATED:20260116T204438Z
LAST-MODIFIED:20260128T215152Z
UID:10001530-1781913600-1782086399@calendar.lcms.org
SUMMARY:Festival of Scripture & The Arts — 'Song of All Songs'
DESCRIPTION:Concordia University Chicago (CUC) will host a Festival of Scripture & The Arts on its campus in suburban River Forest\, Ill.\, on June 20–21. \nThe weekend will include a set of lectures and presentations on the Song of Songs (Song of Solomon) by LCMS authors Rev. Dr. Andrew Steinmann\, Dr. Paul Raabe and Rev. Dr. Joel C. Elowsky\, who are published in the forthcoming book Interpreting the Song of Songs: Reception History from Qumran to the Modern Era (Baker Academic\, September 2026). \nProfessional recitations of the Song of Songs by members of the theater department\, poetry on themes of the Song of Songs by students and faculty of CUC\, and commissioned artwork for the event will accompany the world premiere of music faculty Jonathan Stahlke’s “Song of All Songs\,” a 45-minute work which takes the entire biblical text of the Song as its basis. \nThe work is composed for two choirs\, orchestra and soloists\, and will be performed by members of the All-Music Alumni Reunion\, meeting that same weekend. The performance is free and open to the public. \nFree tickets for the performance or registration for the festival weekend may be secured online (beginning March 2026). \nFor more information\, contact jonathan.stahlke@cuchicago.edu.
URL:https://calendar.lcms.org/event/festival-of-scripture-the-arts-song-of-all-songs/
LOCATION:Concordia University Chicago: River Forest\, Ill.\, 7400 Augusta Street\, River Forest\, IL\, 60305\, United States
CATEGORIES:Special Events
ATTACH;FMTTYPE=image/jpeg:https://calendar.lcms.org/wp-content/uploads/2026/01/CUC-Song-of-All-Songs-Featured-Image.jpg
GEO:41.8997113;-87.8095369
X-APPLE-STRUCTURED-LOCATION;VALUE=URI;X-ADDRESS=Concordia University Chicago: River Forest Ill. 7400 Augusta Street River Forest IL 60305 United States;X-APPLE-RADIUS=500;X-TITLE=7400 Augusta Street:geo:-87.8095369,41.8997113
END:VEVENT
BEGIN:VEVENT
DTSTART;VALUE=DATE:20260626
DTEND;VALUE=DATE:20260627
DTSTAMP:20260422T171331
CREATED:20250916T205706Z
LAST-MODIFIED:20250922T190024Z
UID:10001475-1782432000-1782518399@calendar.lcms.org
SUMMARY:Church Worker Appreciation – Director of Christian Education
DESCRIPTION:Our church workers dedicate themselves\, day in and day out\, to serving their church and school communities. That means it’s always the right time to show them our appreciation. \nTo help the church be intentional in showing that appreciation\, The Lutheran Church—Missouri Synod (LCMS) has set aside the month of October and other special days throughout the year to highlight different kinds of church workers and their service. You are encouraged to join with your brothers and sisters in Christ across the LCMS in using these opportunities to show appreciation to our church workers\, who serve us in a multitude of ways as they preach\, teach and care for God’s people in body and soul. \n\nOct. 12 — Pastor Appreciation\n\n\nOct. 25 — Deaconess\, Director of Family Life Ministry\, Director of Christian Outreach\, and Director of Church Ministries Appreciation\n\n\nApril 26 — Director of Parish Music Appreciation\n\n\nMay 4–8 — Teacher Appreciation\n\nOn June 26\, we continue our year of church worker appreciation observances by thanking God for directors of Christian education (DCEs)\, one of the seven commissioned (auxiliary) offices that support the work of the Holy Ministry. \nView resources \n\nLCMS Worker Wellness\n\nlcms.org/worker-wellness\nworkerwellness@lcms.org\n\n  \nSet Apart to Serve — LCMS church work recruitment initiative\n\nlcms.org/set-apart-to-serve\n\n\nsetapart2serve@lcms.org
URL:https://calendar.lcms.org/event/church-worker-appreciation-director-of-christian-education-2026/
CATEGORIES:Featured Events,Special Occasions
ATTACH;FMTTYPE=image/jpeg:https://calendar.lcms.org/wp-content/uploads/2025/09/783633377-sas-septeblast-2025_1440x810-2.jpg
ORGANIZER;CN="The Lutheran Church%E2%80%94Missouri Synod":MAILTO:help@lcms.org
END:VEVENT
BEGIN:VEVENT
DTSTART;VALUE=DATE:20260718
DTEND;VALUE=DATE:20260724
DTSTAMP:20260422T171331
CREATED:20230729T050000Z
LAST-MODIFIED:20260105T170501Z
UID:10001188-1784332800-1784851199@calendar.lcms.org
SUMMARY:LCMS National Convention - 2026
DESCRIPTION:The 69th Regular Convention of The Lutheran Church—Missouri Synod will be held from July 18 to 23\, 2026 in downtown Phoenix. \nThe Synod will gather under the convention theme\, “Christ Is Risen Indeed\,” based on 1 Corinthians 15:20–22: \n“But in fact Christ has been raised from the dead\, the firstfruits of those who have fallen asleep. For as by a man came death\, by a man has come also the resurrection of the dead. For as in Adam all die\, so also in Christ shall all be made alive.” \n\nKey dates\nSt. Louis\nLCMS International Center \n\nFloor Committee Weekend — May 29–June 1\n\nPhoenix\nPhoenix Convention Center \n\nPre-convention CLOSED Floor Committee Meetings — July 17\n\n\nFloor Committee Open Hearings — July 18\n\n\nDelegate Orientation — July 18\n\n\nOpening Worship — July 18\n\n\nConvention Proceedings — July 19–23\n\n\nConvention Closes — July 23\n\nSt. Louis\nConcordia Seminary\, St. Louis \n\nInstallation of New Officers — Sept. 18\n\nAll dates are 2026. \n\nMore information\n\nGeneral Convention Questions — convention@lcms.org\nCongregational Governance Questions — LCMSSecretary@lcms.org\nConvention Triennium — lcms.org/convention-triennium\n\n\n 
URL:https://calendar.lcms.org/event/lcms-national-convention-2026/
CATEGORIES:Conventions
ATTACH;FMTTYPE=image/jpeg:https://calendar.lcms.org/wp-content/uploads/2023/07/Synod-Convention-2026.jpg
ORGANIZER;CN="The Lutheran Church%E2%80%94Missouri Synod":MAILTO:help@lcms.org
END:VEVENT
END:VCALENDAR