BEGIN:VCALENDAR
VERSION:2.0
PRODID:-//LCMS Calendar - ECPv6.15.16//NONSGML v1.0//EN
CALSCALE:GREGORIAN
METHOD:PUBLISH
X-WR-CALNAME:LCMS Calendar
X-ORIGINAL-URL:https://calendar.lcms.org
X-WR-CALDESC:Events for LCMS Calendar
REFRESH-INTERVAL;VALUE=DURATION:PT1H
X-Robots-Tag:noindex
X-PUBLISHED-TTL:PT1H
BEGIN:VTIMEZONE
TZID:America/Phoenix
BEGIN:STANDARD
TZOFFSETFROM:-0700
TZOFFSETTO:-0700
TZNAME:MST
DTSTART:20240101T000000
END:STANDARD
END:VTIMEZONE
BEGIN:VTIMEZONE
TZID:America/Indiana/Indianapolis
BEGIN:DAYLIGHT
TZOFFSETFROM:-0500
TZOFFSETTO:-0400
TZNAME:EDT
DTSTART:20240310T070000
END:DAYLIGHT
BEGIN:STANDARD
TZOFFSETFROM:-0400
TZOFFSETTO:-0500
TZNAME:EST
DTSTART:20241103T060000
END:STANDARD
BEGIN:DAYLIGHT
TZOFFSETFROM:-0500
TZOFFSETTO:-0400
TZNAME:EDT
DTSTART:20250309T070000
END:DAYLIGHT
BEGIN:STANDARD
TZOFFSETFROM:-0400
TZOFFSETTO:-0500
TZNAME:EST
DTSTART:20251102T060000
END:STANDARD
BEGIN:DAYLIGHT
TZOFFSETFROM:-0500
TZOFFSETTO:-0400
TZNAME:EDT
DTSTART:20260308T070000
END:DAYLIGHT
BEGIN:STANDARD
TZOFFSETFROM:-0400
TZOFFSETTO:-0500
TZNAME:EST
DTSTART:20261101T060000
END:STANDARD
END:VTIMEZONE
BEGIN:VEVENT
DTSTART;TZID=America/Phoenix:20250118T093000
DTEND;TZID=America/Phoenix:20250118T123000
DTSTAMP:20260423T143134
CREATED:20241206T174732Z
LAST-MODIFIED:20241206T181850Z
UID:10001440-1737192600-1737203400@calendar.lcms.org
SUMMARY:Tucson March for Life 2025
DESCRIPTION:The Tucson March for Life is Saturday\, January 18\, 2025. Our LCMS marchers will meet in front of the Tucson Community Center at 260 South Church Avenue (across from St. Augustine Cathedral) at 9:30am. The Rev. Dr. John Stieve will lead devotions\, and then we will march to Holy Hope Cemetery. If you have any questions\, please contact Dr. Roni Grad at roni.grad@gmail.com  \n\n\n\n\n\n\n\n\n\n\n\n\nRegister Now
URL:https://calendar.lcms.org/event/tucson-march-for-life-2025/
LOCATION:Tucson Convention Center\, 260 South Church Ave.\, Tucson\, AZ\, 85701
CATEGORIES:Pro-life events
ATTACH;FMTTYPE=image/jpeg:https://calendar.lcms.org/wp-content/uploads/2024/03/030124-eml-Arizona-March-for-Life-0009-scaled.jpg
ORGANIZER;CN="LCMS Life Ministry":MAILTO:lifeministry@lcms.org
GEO:32.2186203;-110.9737017
X-APPLE-STRUCTURED-LOCATION;VALUE=URI;X-ADDRESS=Tucson Convention Center 260 South Church Ave. Tucson AZ 85701;X-APPLE-RADIUS=500;X-TITLE=260 South Church Ave.:geo:-110.9737017,32.2186203
END:VEVENT
BEGIN:VEVENT
DTSTART;TZID=America/Indiana/Indianapolis:20250118T123000
DTEND;TZID=America/Indiana/Indianapolis:20250118T143000
DTSTAMP:20260423T143134
CREATED:20241206T181822Z
LAST-MODIFIED:20241206T181822Z
UID:10001441-1737203400-1737210600@calendar.lcms.org
SUMMARY:2025 Life March in Fort Wayne\, Indiana
DESCRIPTION:The 2025 Life March in Fort Wayne\, Ind. will take place on Saturday\, January 18. The pre-march rally takes place at 12:30pm and the march follows at 1:00pm.  Join us as we witness to the sanctity of life. More information to come. \n\n\n\n\n\n\n\n\n\n\n\n\n\n\n\n\n\nRegister Now
URL:https://calendar.lcms.org/event/2025-life-march-in-fort-wayne-indiana/
LOCATION:Fort Wayne\, Ind.\, AZ
CATEGORIES:Pro-life events
ATTACH;FMTTYPE=image/jpeg:https://calendar.lcms.org/wp-content/uploads/2023/01/Pro-life-Event-Featured-Image-2.jpg
ORGANIZER;CN="LCMS Life Ministry":MAILTO:lifeministry@lcms.org
GEO:34.0489281;-111.0937311
END:VEVENT
END:VCALENDAR