BEGIN:VCALENDAR
VERSION:2.0
PRODID:-//LCMS Calendar - ECPv6.15.16//NONSGML v1.0//EN
CALSCALE:GREGORIAN
METHOD:PUBLISH
X-WR-CALNAME:LCMS Calendar
X-ORIGINAL-URL:https://calendar.lcms.org
X-WR-CALDESC:Events for LCMS Calendar
REFRESH-INTERVAL;VALUE=DURATION:PT1H
X-Robots-Tag:noindex
X-PUBLISHED-TTL:PT1H
BEGIN:VTIMEZONE
TZID:America/Phoenix
BEGIN:STANDARD
TZOFFSETFROM:-0700
TZOFFSETTO:-0700
TZNAME:MST
DTSTART:20240101T000000
END:STANDARD
END:VTIMEZONE
BEGIN:VEVENT
DTSTART;VALUE=DATE:20250315
DTEND;VALUE=DATE:20250316
DTSTAMP:20260423T125346
CREATED:20250107T195610Z
LAST-MODIFIED:20250107T195641Z
UID:10001445-1741996800-1742083199@calendar.lcms.org
SUMMARY:Arizona March for Life in Phoenix
DESCRIPTION:The 2025 Arizona March for Life is Saturday\, March 15. The rally begins at 11:00am at the Wesley Bolin Memorial Plaza and the march at 12:00pm.  Join us as we witness to the sanctity of life. For more information\, contact Dr. Roni Grad at roni.grad@gmail.com \n\n\n\n\n\n\n\n\n\n\n\n\n\n\n\n\n\n\n\n\n\n\n\n\nRegister Now
URL:https://calendar.lcms.org/event/arizona-march-for-life-in-phoenix/
LOCATION:Wesley Bolin Memorial Plaza\, 1700 W Washington St\, Phoenix\, AZ\, 85007\, United States
CATEGORIES:Pro-life events
ATTACH;FMTTYPE=image/jpeg:https://calendar.lcms.org/wp-content/uploads/2024/03/030124-eml-Arizona-March-for-Life-0009-scaled.jpg
ORGANIZER;CN="LCMS Life Ministry":MAILTO:lifeministry@lcms.org
GEO:33.4481624;-112.0978923
X-APPLE-STRUCTURED-LOCATION;VALUE=URI;X-ADDRESS=Wesley Bolin Memorial Plaza 1700 W Washington St Phoenix AZ 85007 United States;X-APPLE-RADIUS=500;X-TITLE=1700 W Washington St:geo:-112.0978923,33.4481624
END:VEVENT
END:VCALENDAR