BEGIN:VCALENDAR
VERSION:2.0
PRODID:-//LCMS Calendar - ECPv6.15.16//NONSGML v1.0//EN
CALSCALE:GREGORIAN
METHOD:PUBLISH
X-WR-CALNAME:LCMS Calendar
X-ORIGINAL-URL:https://calendar.lcms.org
X-WR-CALDESC:Events for LCMS Calendar
REFRESH-INTERVAL;VALUE=DURATION:PT1H
X-Robots-Tag:noindex
X-PUBLISHED-TTL:PT1H
BEGIN:VTIMEZONE
TZID:America/Phoenix
BEGIN:STANDARD
TZOFFSETFROM:-0700
TZOFFSETTO:-0700
TZNAME:MST
DTSTART:20240101T000000
END:STANDARD
END:VTIMEZONE
BEGIN:VEVENT
DTSTART;VALUE=DATE:20250319
DTEND;VALUE=DATE:20250320
DTSTAMP:20260423T110807
CREATED:20250115T201039Z
LAST-MODIFIED:20250116T151343Z
UID:10001448-1742342400-1742428799@calendar.lcms.org
SUMMARY:2025 Connecticut March for Life in Hartford
DESCRIPTION:The 2025 Connecticut March for Life is Wednesday\, March 19\, 2025. There will be a Worship Service prior to the march (more information to come). The rally begins at the Capitol at 12:00pm and the march begins at 1:00pm. Come and witness to the sanctity of life. \n\n\n\n\n\n\n\n\n\n\n\n\n\n\n\n\n\n\n\n\nRegister Now
URL:https://calendar.lcms.org/event/2025-connecticut-march-for-life-in-hartford/
LOCATION:Connecticut State Capitol\, 210 Capitol Ave\, Hartford\, CT\, 06106\, United States
CATEGORIES:Pro-life events
ATTACH;FMTTYPE=image/jpeg:https://calendar.lcms.org/wp-content/uploads/2023/01/Pro-life-Event-Featured-Image-2.jpg
ORGANIZER;CN="LCMS Life Ministry":MAILTO:lifeministry@lcms.org
GEO:41.7641979;-72.682467
X-APPLE-STRUCTURED-LOCATION;VALUE=URI;X-ADDRESS=Connecticut State Capitol 210 Capitol Ave Hartford CT 06106 United States;X-APPLE-RADIUS=500;X-TITLE=210 Capitol Ave:geo:-72.682467,41.7641979
END:VEVENT
END:VCALENDAR