BEGIN:VCALENDAR
VERSION:2.0
PRODID:-//LCMS Calendar - ECPv6.15.16//NONSGML v1.0//EN
CALSCALE:GREGORIAN
METHOD:PUBLISH
X-WR-CALNAME:LCMS Calendar
X-ORIGINAL-URL:https://calendar.lcms.org
X-WR-CALDESC:Events for LCMS Calendar
REFRESH-INTERVAL;VALUE=DURATION:PT1H
X-Robots-Tag:noindex
X-PUBLISHED-TTL:PT1H
BEGIN:VTIMEZONE
TZID:America/Los_Angeles
BEGIN:DAYLIGHT
TZOFFSETFROM:-0800
TZOFFSETTO:-0700
TZNAME:PDT
DTSTART:20240310T100000
END:DAYLIGHT
BEGIN:STANDARD
TZOFFSETFROM:-0700
TZOFFSETTO:-0800
TZNAME:PST
DTSTART:20241103T090000
END:STANDARD
BEGIN:DAYLIGHT
TZOFFSETFROM:-0800
TZOFFSETTO:-0700
TZNAME:PDT
DTSTART:20250309T100000
END:DAYLIGHT
BEGIN:STANDARD
TZOFFSETFROM:-0700
TZOFFSETTO:-0800
TZNAME:PST
DTSTART:20251102T090000
END:STANDARD
BEGIN:DAYLIGHT
TZOFFSETFROM:-0800
TZOFFSETTO:-0700
TZNAME:PDT
DTSTART:20260308T100000
END:DAYLIGHT
BEGIN:STANDARD
TZOFFSETFROM:-0700
TZOFFSETTO:-0800
TZNAME:PST
DTSTART:20261101T090000
END:STANDARD
END:VTIMEZONE
BEGIN:VEVENT
DTSTART;VALUE=DATE:20250125
DTEND;VALUE=DATE:20250126
DTSTAMP:20260423T181642
CREATED:20240617T211507Z
LAST-MODIFIED:20241023T154834Z
UID:10001375-1737763200-1737849599@calendar.lcms.org
SUMMARY:2025 Texas Rally for Life in Austin
DESCRIPTION:Join us at the Capitol in Austin for the 2025 Texas Rally for Life on Saturday\, January 25\, 2025. \nMore information to come. \nRegister Now
URL:https://calendar.lcms.org/event/2025-texas-rally-for-life-in-austin/
LOCATION:Texas Capitol Building\, 1100 Congress Ave.\, Austin\, TX\, 78701\, United States
CATEGORIES:Pro-life events
ATTACH;FMTTYPE=image/jpeg:https://calendar.lcms.org/wp-content/uploads/2024/03/030124-eml-Arizona-March-for-Life-0009-scaled.jpg
ORGANIZER;CN="LCMS Life Ministry":MAILTO:lifeministry@lcms.org
GEO:30.2747025;-97.7403448
X-APPLE-STRUCTURED-LOCATION;VALUE=URI;X-ADDRESS=Texas Capitol Building 1100 Congress Ave. Austin TX 78701 United States;X-APPLE-RADIUS=500;X-TITLE=1100 Congress Ave.:geo:-97.7403448,30.2747025
END:VEVENT
END:VCALENDAR