BEGIN:VCALENDAR
VERSION:2.0
PRODID:-//LCMS Calendar - ECPv6.15.16//NONSGML v1.0//EN
CALSCALE:GREGORIAN
METHOD:PUBLISH
X-ORIGINAL-URL:https://calendar.lcms.org
X-WR-CALDESC:Events for LCMS Calendar
REFRESH-INTERVAL;VALUE=DURATION:PT1H
X-Robots-Tag:noindex
X-PUBLISHED-TTL:PT1H
BEGIN:VTIMEZONE
TZID:America/Chicago
BEGIN:DAYLIGHT
TZOFFSETFROM:-0600
TZOFFSETTO:-0500
TZNAME:CDT
DTSTART:20240310T080000
END:DAYLIGHT
BEGIN:STANDARD
TZOFFSETFROM:-0500
TZOFFSETTO:-0600
TZNAME:CST
DTSTART:20241103T070000
END:STANDARD
BEGIN:DAYLIGHT
TZOFFSETFROM:-0600
TZOFFSETTO:-0500
TZNAME:CDT
DTSTART:20250309T080000
END:DAYLIGHT
BEGIN:STANDARD
TZOFFSETFROM:-0500
TZOFFSETTO:-0600
TZNAME:CST
DTSTART:20251102T070000
END:STANDARD
BEGIN:DAYLIGHT
TZOFFSETFROM:-0600
TZOFFSETTO:-0500
TZNAME:CDT
DTSTART:20260308T080000
END:DAYLIGHT
BEGIN:STANDARD
TZOFFSETFROM:-0500
TZOFFSETTO:-0600
TZNAME:CST
DTSTART:20261101T070000
END:STANDARD
END:VTIMEZONE
BEGIN:VEVENT
DTSTART;VALUE=DATE:20250627
DTEND;VALUE=DATE:20250629
DTSTAMP:20260421T212156
CREATED:20240702T220558Z
LAST-MODIFIED:20240705T210342Z
UID:10001414-1750982400-1751155199@calendar.lcms.org
SUMMARY:LCMS Iowa District East Convention — 2025
DESCRIPTION:The Lutheran Church—Missouri Synod’s 2025 Iowa District East Convention is scheduled for Friday\, June 27\, and Saturday\, June 28\, in Cedar Rapids\, Iowa\, at the Radisson Hotel Cedar Rapids. \nDistrict conventions\, which are held every three years by each of the Synod’s 35 districts\, take place the year before the triennial LCMS national convention. \nThe schedule includes time for conducting business\, electing officers\, and sharing information. The conventions also offer opportunities for worship\, nurture\, inspiration\, and fellowship. \nPastors\, teachers\, other commissioned ministers\, and lay delegates elected by congregations are required to attend. \nGeneral sessions are open to anyone who wishes to attend as an observer\, and guests are also invited to the worship services. \nLCMS Iowa District East Office \n\nProfile — Iowa District East\n\n\nWeb — lcmside.org\n\n\nEmail — lcmside.org/contact\n\n\nPhone — 319-373-2112
URL:https://calendar.lcms.org/event/iowa-district-east-convention-2025/
LOCATION:Radisson Hotel Cedar Rapids: Cedar Rapids\, Iowa\, 1200 Collins Road NE\, Cedar Rapids\, IA\, 52402\, United States
CATEGORIES:Conventions,LCMS District Conventions
ATTACH;FMTTYPE=image/jpeg:https://calendar.lcms.org/wp-content/uploads/2017/06/LCMS-District-Conventions-Featured-Image.jpg
ORGANIZER;CN="LCMS Iowa District East":MAILTO:https://lcmside.org/contact
GEO:42.0293619;-91.652845
X-APPLE-STRUCTURED-LOCATION;VALUE=URI;X-ADDRESS=Radisson Hotel Cedar Rapids: Cedar Rapids Iowa 1200 Collins Road NE Cedar Rapids IA 52402 United States;X-APPLE-RADIUS=500;X-TITLE=1200 Collins Road NE:geo:-91.652845,42.0293619
END:VEVENT
END:VCALENDAR