BEGIN:VCALENDAR
VERSION:2.0
PRODID:-//LCMS Calendar - ECPv6.15.16//NONSGML v1.0//EN
CALSCALE:GREGORIAN
METHOD:PUBLISH
X-ORIGINAL-URL:https://calendar.lcms.org
X-WR-CALDESC:Events for LCMS Calendar
REFRESH-INTERVAL;VALUE=DURATION:PT1H
X-Robots-Tag:noindex
X-PUBLISHED-TTL:PT1H
BEGIN:VTIMEZONE
TZID:America/Chicago
BEGIN:DAYLIGHT
TZOFFSETFROM:-0600
TZOFFSETTO:-0500
TZNAME:CDT
DTSTART:20240310T080000
END:DAYLIGHT
BEGIN:STANDARD
TZOFFSETFROM:-0500
TZOFFSETTO:-0600
TZNAME:CST
DTSTART:20241103T070000
END:STANDARD
BEGIN:DAYLIGHT
TZOFFSETFROM:-0600
TZOFFSETTO:-0500
TZNAME:CDT
DTSTART:20250309T080000
END:DAYLIGHT
BEGIN:STANDARD
TZOFFSETFROM:-0500
TZOFFSETTO:-0600
TZNAME:CST
DTSTART:20251102T070000
END:STANDARD
BEGIN:DAYLIGHT
TZOFFSETFROM:-0600
TZOFFSETTO:-0500
TZNAME:CDT
DTSTART:20260308T080000
END:DAYLIGHT
BEGIN:STANDARD
TZOFFSETFROM:-0500
TZOFFSETTO:-0600
TZNAME:CST
DTSTART:20261101T070000
END:STANDARD
END:VTIMEZONE
BEGIN:VEVENT
DTSTART;VALUE=DATE:20250620
DTEND;VALUE=DATE:20250622
DTSTAMP:20260421T212008
CREATED:20240701T175851Z
LAST-MODIFIED:20240805T170020Z
UID:10001407-1750377600-1750550399@calendar.lcms.org
SUMMARY:LCMS Nebraska District Convention — 2025
DESCRIPTION:The Lutheran Church—Missouri Synod’s 2025 Nebraska District Convention is scheduled for Friday\, June 20\, and Saturday\, June 21\, in Kearney\, Neb.\, at the Younes Conference Center South. \nDistrict conventions\, which are held every three years by each of the Synod’s 35 districts\, take place the year before the triennial LCMS national convention. \nThe schedule includes time for conducting business\, electing officers\, and sharing information. The conventions also offer opportunities for worship\, nurture\, inspiration\, and fellowship. \nPastors\, teachers\, other commissioned ministers\, and lay delegates elected by congregations are required to attend. \nGeneral sessions are open to anyone who wishes to attend as an observer\, and guests are also invited to the worship services. \nLCMS Nebraska District Office \n\nProfile — Nebraska District\n\n\nWeb — ndlcms.org\n\n\nEmail — info@ndlcms.org\n\n\nPhone — 402-643-2961
URL:https://calendar.lcms.org/event/nebraska-district-convention-2025/
LOCATION:Younes Conference Center South: Kearney\, Neb.\, 416 Talmadge Street\, Kearney\, NE\, 68845\, United States
CATEGORIES:Conventions,LCMS District Conventions
ATTACH;FMTTYPE=image/jpeg:https://calendar.lcms.org/wp-content/uploads/2017/06/LCMS-District-Conventions-Featured-Image.jpg
ORGANIZER;CN="LCMS Nebraska District":MAILTO:info@ndlcms.org
GEO:40.6735466;-99.0885733
X-APPLE-STRUCTURED-LOCATION;VALUE=URI;X-ADDRESS=Younes Conference Center South: Kearney Neb. 416 Talmadge Street Kearney NE 68845 United States;X-APPLE-RADIUS=500;X-TITLE=416 Talmadge Street:geo:-99.0885733,40.6735466
END:VEVENT
END:VCALENDAR